BEGIN:VCALENDAR
VERSION:2.0
PRODID:-//ChamberMaster//Event Calendar 2.0//EN
METHOD:PUBLISH
X-PUBLISHED-TTL:P3D
REFRESH-INTERVAL:P3D
CALSCALE:GREGORIAN
BEGIN:VEVENT
DTSTART:20241028T000000Z
DTEND:20241028T010000Z
X-MICROSOFT-CDO-ALLDAYEVENT:FALSE
SUMMARY:The Mammals
DESCRIPTION:The Mammals are folksingers Ruth Ungar\, Mike Merenda\, and a cohort of compelling collaborators who form a touring quintet on the fiddle\, banjo\, guitar\, organ\, bass\, and drums. Over the past 20 years they have quietly composed a canon of original songs ("some of the best songwriting of their generation." -LA Times) that both reflect our culture and offer a vision of how the world might yet be. "These days we sing about what we're for over what we're against\," says songwriter\, Mike Merenda\, and what they're for is "nothing short of sublime" according to Americana UK.\n\n \n\nA rough and tumble decade in the 00's forged The Mammals identity as "subversive acoustic traditionalists" (Boston Globe) or a "party band with a conscience." Re-emerging in 2017 from a hibernation period during-which the band's founders explored new songwriting terrain\, The Mammals "don't suffer from multiple genre syndrome\, they celebrate it as if gleefully aware that the sound barriers separating old-timey music\, vintage pop and contemporary folk are as permeable as cotton" (Washington Post). Their latest album\, Nonet\, "marshalls the defiant spirit needed to heal a damaged world" (No Depression). In 2023 they released a series of singles recorded at their own Humble Abode Music\, as well as issuing bonus material from 2020's landmark Nonet album. \n\n \n\nRuth is the daughter of legendary fiddler\, Jay Ungar\, composer of the storied "Ashokan Farewell." You can catch The Mammals semi-annually at The Hoot\, a folk festival they curate and produce at The Ashokan Center in Olivebridge\, NY.
X-ALT-DESC;FMTTYPE=text/html:<p>The Mammals are folksingers Ruth Ungar\, Mike Merenda\, and a cohort of compelling collaborators who form a touring quintet on the fiddle\, banjo\, guitar\, organ\, bass\, and&nbsp\;drums. Over the past 20 years they have quietly composed a canon of original songs (&ldquo\;some of the best songwriting of their generation.&rdquo\; -LA Times) that both reflect our&nbsp\;culture and offer a vision of how the world might yet be.&nbsp\;&ldquo\;These days we sing about what we&rsquo\;re for over what we&rsquo\;re against\,&rdquo\; says songwriter\, Mike Merenda\, and what they&#39\;re&nbsp\;for is &quot\;nothing short of sublime&rdquo\; according to Americana UK.</p>\n\n<p>&nbsp\;</p>\n\n<p>A rough and tumble decade in the 00&#39\;s forged The Mammals identity as &quot\;subversive acoustic traditionalists&rdquo\; (Boston Globe) or a &quot\;party band with a conscience.&quot\; Re-emerging&nbsp\;in 2017 from a hibernation period during-which the band&#39\;s founders explored new songwriting terrain\, The Mammals &ldquo\;don&rsquo\;t suffer from multiple genre syndrome\, they celebrate&nbsp\;it as if gleefully aware that the sound barriers separating old-timey music\, vintage pop and contemporary folk are as permeable as cotton&rdquo\; (Washington Post).&nbsp\;Their latest&nbsp\;album\,&nbsp\;<em>Nonet</em>\, &quot\;marshalls the defiant spirit needed to heal a damaged world&quot\; (No Depression).&nbsp\;In 2023 they released a series of singles recorded at their own Humble Abode&nbsp\;Music\, as well as issuing bonus material from 2020&rsquo\;s landmark&nbsp\;<em>Nonet&nbsp\;</em>album.&nbsp\;</p>\n\n<p>&nbsp\;</p>\n\n<p>Ruth is the daughter of legendary fiddler\, Jay Ungar\, composer of the storied &ldquo\;Ashokan Farewell.&rdquo\; You can catch The Mammals semi-annually at The Hoot\, a folk festival they&nbsp\;curate and produce at The Ashokan Center in Olivebridge\, NY.</p>\n
LOCATION:Vinegar Hill Music Theatre 53 Old Post Road Arundel\, Maine 04046
UID:e.1923.30997
SEQUENCE:3
DTSTAMP:20260421T100037Z
URL:https://chamber.gokennebunks.com/events/details/the-mammals-10-27-2024-30997
END:VEVENT

END:VCALENDAR
