BEGIN:VCALENDAR
VERSION:2.0
PRODID:-//ChamberMaster//Event Calendar 2.0//EN
METHOD:PUBLISH
X-PUBLISHED-TTL:P3D
REFRESH-INTERVAL:P3D
CALSCALE:GREGORIAN
BEGIN:VEVENT
DTSTART:20240608T000000Z
DTEND:20240608T013000Z
X-MICROSOFT-CDO-ALLDAYEVENT:FALSE
SUMMARY:The Mallett Brothers Band
DESCRIPTION:Vinegar Hill Music Theatre presents The Mallett Brothers Band\n\nFood Trucks 6pm | Doors 7pm | Show 8pm\n\nAll Ages\n\n \n\nJoin us for food and drinks before the show in our outdoor garden starting at 6pm!\n\nThe night's food truck is Terra Firma! Serving farm-to-table fare including smash burgers burgers\, kabobs\, and more!\n\n \n\n"FOUNDED IN 2009\, THE MALLETT BROTHERS BAND HAVE HAD MULTIPLE LINEUP CHANGES AND STYLISTIC SHIFTS OVER THE YEARS\, BUT THEY'VE REMAINED STEADFAST IN DELIVERING HEARTFELT SONGS WITH EMOTIONAL LYRICISM\, VIVID IMAGERY\, AND DYNAMIC MUSICAL TONES "   NO DEPRESSION \n\nThe Mallett Brothers Band is an independent rock and roll / Americana / country band from Maine. Their busy tour schedule since forming in 2009 has helped them to build a dedicated fanbase across the U.S. and beyond while still calling the state of Maine their home. With a style that ranges from alt-country to Americana\, country\, jam and roots rock\, theirs is a musical melting pot that's influenced equally by the singer/songwriter tradition as by harder rock\, classic country and psychedelic sounds.
X-ALT-DESC;FMTTYPE=text/html:<h5>Vinegar Hill Music Theatre presents The Mallett Brothers Band</h5>\n\n<h5>Food Trucks 6pm&nbsp\;|&nbsp\;Doors 7pm | Show 8pm</h5>\n\n<h5>All Ages</h5>\n\n<p>&nbsp\;</p>\n\n<p>Join us for food and drinks before the show in our outdoor garden starting at&nbsp\;6pm!</p>\n\n<p>The night&rsquo\;s food truck is&nbsp\;<a href="https://www.instagram.com/terrafirmafoodtruck/" rel="noopener noreferrer" style="box-sizing: border-box\; color: rgb(251\, 74\, 40)\; text-decoration-line: none\; background-color: transparent\; box-shadow: none\;" target="_blank">Terra Firma!</a>&nbsp\;Serving farm-to-table fare including smash burgers burgers\, kabobs\, and more!</p>\n\n<p>&nbsp\;</p>\n\n<p><em>&ldquo\;FOUNDED IN 2009\, THE MALLETT BROTHERS BAND HAVE HAD MULTIPLE LINEUP CHANGES AND STYLISTIC SHIFTS OVER THE YEARS\, BUT THEY&rsquo\;VE REMAINED STEADFAST IN DELIVERING HEARTFELT SONGS WITH EMOTIONAL LYRICISM\, VIVID IMAGERY\, AND DYNAMIC MUSICAL TONES&hellip\;&rdquo\; &ndash\;</em><a href="https://hes32-ctp.trendmicro.com/wis/clicktime/v1/query?url=http%3a%2f%2fnodepression.com%2falbum%2dreview%2fmallett%2dbrothers%2dband%2dtake%2dgamble%2dlosin%2dhorses%2dlisten%2dhere&amp\;umid=7e8d1823-9f71-4fc4-b66e-d4597b8d3c6f&amp\;auth=aea1da0310e2636c79a3a218cdf31d6564bf6a00-e7b016bb2aafda371b722f08b8e8965459114a86" rel="noopener noreferrer" style="box-sizing: border-box\; color: rgb(251\, 74\, 40)\; text-decoration-line: none\; background-color: transparent\; box-shadow: none\;" target="_blank"><em>&nbsp\;NO DEPRESSION</em></a><em>&nbsp\;</em></p>\n\n<p><a href="https://www.mallettbrothersband.com/" rel="noopener noreferrer" style="box-sizing: border-box\; color: rgb(251\, 74\, 40)\; text-decoration-line: none\; background-color: transparent\; box-shadow: none\;" target="_blank">The Mallett Brothers Band</a>&nbsp\;is an independent rock and roll / Americana / country band from Maine. Their busy tour schedule since forming in 2009 has helped them to build a dedicated fanbase across the U.S. and beyond while still calling the state of Maine their home. With a style that ranges from alt-country to Americana\, country\, jam and roots rock\, theirs is a musical melting pot that&rsquo\;s influenced equally by the singer/songwriter tradition as by harder rock\, classic country and psychedelic sounds.</p>\n
LOCATION:Vinegar Hill Music Theatre 53 Old Post Rd. Arundel\, ME 04046
UID:e.1923.25328
SEQUENCE:3
DTSTAMP:20260421T140230Z
URL:https://chamber.gokennebunks.com/events/details/the-mallett-brothers-band-25328
END:VEVENT

END:VCALENDAR
