BEGIN:VCALENDAR
VERSION:2.0
PRODID:-//ChamberMaster//Event Calendar 2.0//EN
METHOD:PUBLISH
X-PUBLISHED-TTL:P3D
REFRESH-INTERVAL:P3D
CALSCALE:GREGORIAN
BEGIN:VEVENT
DTSTART:20240607T233000Z
DTEND:20240608T013000Z
X-MICROSOFT-CDO-ALLDAYEVENT:FALSE
SUMMARY:The Maine Gay Men's Chorus Presents "Broadway Gala"
DESCRIPTION:The Maine Gay Men's Chorus presents "Broadway GALA". Join us for an evening of the best of Broadway including songs from\, Jekyll & Hyde\, South Pacific\, Spamalot\, The Fantasticks\, Wicked\, Oklahoma\, The Greatest Showman\, Anyone Can Whistle\, South Pacific and more. Plus the fabulousness that you only can get with that Maine Gay Men's Chorus flair! Don't miss it!
X-ALT-DESC;FMTTYPE=text/html:The Maine Gay Men&#39\;s Chorus presents &quot\;Broadway GALA&quot\;. Join us for an evening of the best of Broadway including songs from\, Jekyll &amp\; Hyde\, South Pacific\, Spamalot\, The Fantasticks\, Wicked\, Oklahoma\, The Greatest Showman\, Anyone Can Whistle\, South Pacific and more. Plus the fabulousness that you only can get with that Maine Gay Men&#39\;s Chorus flair! Don&#39\;t miss it!
LOCATION:205 Main Street Biddeford ME 04005
UID:e.1923.24606
SEQUENCE:3
DTSTAMP:20260421T140435Z
URL:https://chamber.gokennebunks.com/events/details/the-maine-gay-men-s-chorus-presents-broadway-gala-24606
END:VEVENT

END:VCALENDAR
