BEGIN:VCALENDAR
VERSION:2.0
PRODID:-//ChamberMaster//Event Calendar 2.0//EN
METHOD:PUBLISH
X-PUBLISHED-TTL:P3D
REFRESH-INTERVAL:P3D
CALSCALE:GREGORIAN
BEGIN:VEVENT
DTSTART:20250703T220000Z
DTEND:20250704T000000Z
X-MICROSOFT-CDO-ALLDAYEVENT:FALSE
SUMMARY:"The Light Of Maine"
DESCRIPTION:"The Light of Maine" connects the theme of light in Becker's work with the beauty of the Maine coast. Join us for an evening of exploration\, creativity\, and conversation. This exhibition showcases a captivating blend of subjects\, long exposures of water\, local images of the Kennebunks.   From the quiet glow of light-painted boats to the serene motion of long-exposure seascapes\, Chris Becker's work invites you to discover the essence of Maine's timeless beauty and its ever-changing moods.   Refreshments available
X-ALT-DESC;FMTTYPE=text/html:<span style="color:rgb(8\, 8\, 9)\; font-family:system-ui\,-apple-system\,system-ui\,.sfnstext-regular\,sans-serif\; font-size:18.75px">&quot\;The Light of Maine&quot\; connects the theme of light in Becker&rsquo\;s work with the beauty of the Maine coast. Join us for an evening of exploration\, creativity\, and conversation. This exhibition showcases a captivating blend of subjects\, long exposures of water\, local images of the Kennebunks.&nbsp\; &nbsp\;From the quiet glow of light-painted boats to the serene motion of long-exposure seascapes\, Chris Becker&rsquo\;s work invites you to discover the essence of Maine&rsquo\;s timeless beauty and its ever-changing moods.&nbsp\; &nbsp\;Refreshments available</span>
LOCATION:127 Ocean Ave\, Kennebunkport\, ME\, United States\, Maine 04046
UID:e.1923.37543
SEQUENCE:3
DTSTAMP:20260421T073726Z
URL:https://chamber.gokennebunks.com/events/details/the-light-of-maine-37543
END:VEVENT

END:VCALENDAR
