BEGIN:VCALENDAR
VERSION:2.0
PRODID:-//ChamberMaster//Event Calendar 2.0//EN
METHOD:PUBLISH
X-PUBLISHED-TTL:P3D
REFRESH-INTERVAL:P3D
CALSCALE:GREGORIAN
BEGIN:VEVENT
DTSTART:20250708T130000Z
DTEND:20250807T090000Z
X-MICROSOFT-CDO-ALLDAYEVENT:FALSE
SUMMARY:The Landing School of Boatbuilding and Design x Atlantic Captain's Academy Presents: Captain's Course\, Operator of Uninspected Passenger Vessel (OUPV)
DESCRIPTION:Earn Your Captain's License and Set Sail on a New Career\n\nThe Landing School and Atlantic Captain's Academy invite you to take the helm of your future with our Operator of Uninspected Passenger Vessel (OUPV) Course\, also known as the "6-pack" license. This comprehensive training is designed for those ready to operate charter boats\, sailboats\, and excursion vessels professionally.\n\nWhether you're looking to launch a career on the water or take your boating skills to the next level\, this course will equip you with the knowledge and confidence to safely and legally carry passengers for hire.\n\nCourse Highlights:\n\n\n	\n	Navigation and chart plotting\n	\n	\n	Rules of the road and maritime regulations\n	\n	\n	Boat handling and vessel maintenance\n	\n	\n	Safety procedures and emergency protocols\n	\n\n\nPrepare for a career filled with adventure\, freedom\, and opportunity. Get certified\, get confident and get on the water.\n\nSpots are limited secure your seat today!\nInstructor: Captain Nick Patey (TLS class of 2014)
X-ALT-DESC;FMTTYPE=text/html:<p>Earn Your Captain&rsquo\;s License and Set Sail on a New Career</p>\n\n<p>The Landing School and Atlantic Captain&rsquo\;s Academy invite you to take the helm of your future with our Operator of Uninspected Passenger Vessel (OUPV) Course\, also known as the &ldquo\;6-pack&rdquo\; license. This comprehensive training is designed for those ready to operate charter boats\, sailboats\, and excursion vessels professionally.</p>\n\n<p>Whether you&#39\;re looking to launch a career on the water or take your boating skills to the next level\, this course will equip you with the knowledge and confidence to safely and legally carry passengers for hire.</p>\n\n<p>Course Highlights:</p>\n\n<ul>\n	<li>\n	<p>Navigation and chart plotting</p>\n	</li>\n	<li>\n	<p>Rules of the road and maritime regulations</p>\n	</li>\n	<li>\n	<p>Boat handling and vessel maintenance</p>\n	</li>\n	<li>\n	<p>Safety procedures and emergency protocols</p>\n	</li>\n</ul>\n\n<p>Prepare for a career filled with adventure\, freedom\, and opportunity. Get certified\, get confident&mdash\;and get on the water.</p>\n\n<p>Spots are limited&mdash\;secure your seat today!</p>\n<span style="font-family:arial\,helvetica\,sans-serif"><span style="font-size:14px"><span style="color:#183449">Instructor: Captain Nick Patey (TLS class of 2014)</span></span><br />\n&nbsp\;</span><br />\n&nbsp\;<br />\n<br />\n&nbsp\;<br />\n&nbsp\;
LOCATION:
UID:e.1923.37541
SEQUENCE:3
DTSTAMP:20260421T074702Z
URL:https://chamber.gokennebunks.com/events/details/the-landing-school-of-boatbuilding-and-design-x-atlantic-captain-s-academy-presents-captain-s-course-operator-of-uninspected-passenger-vessel-oupv-37541
END:VEVENT

END:VCALENDAR
