BEGIN:VCALENDAR
VERSION:2.0
PRODID:-//ChamberMaster//Event Calendar 2.0//EN
METHOD:PUBLISH
X-PUBLISHED-TTL:P3D
REFRESH-INTERVAL:P3D
CALSCALE:GREGORIAN
BEGIN:VEVENT
DTSTART:20180922T000000Z
DTEND:20180922T020000Z
X-MICROSOFT-CDO-ALLDAYEVENT:FALSE
SUMMARY:The Kingston Trio
DESCRIPTION:Legendary folk icons The Kingston Trio bring their timeless music to fans across the USA with a national tour that marks the group?s 60th anniversary. Keeping it in the family\, Josh Reynolds\, son of original member Nick Reynolds\, along with lifelong musical partners Mike Marvin and Tim Gorelangton\, perform many of the trio?s best-loved songs. The performances take the audience on an iconic musical journey to a time when folk music made its extraordinary ascent to the pinnacle of popular culture ? and the top of the music charts.
X-ALT-DESC;FMTTYPE=text/html:Legendary folk icons The Kingston Trio bring their timeless music to fans across the USA with a national tour that marks the group?s 60th anniversary. Keeping it in the family\, Josh Reynolds\, son of original member Nick Reynolds\, along with lifelong musical partners Mike Marvin and Tim Gorelangton\, perform many of the trio?s best-loved songs. The performances take the audience on an iconic musical journey to a time when folk music made its extraordinary ascent to the pinnacle of popular culture ? and the top of the music charts.
LOCATION:Vinegar Hill Music Theatre 53 Old Post Rd. Arundel\, ME 04046
UID:e.1923.7181
SEQUENCE:3
DTSTAMP:20260425T103928Z
URL:https://chamber.gokennebunks.com/events/details/the-kingston-trio-7181
END:VEVENT

END:VCALENDAR
