BEGIN:VCALENDAR
VERSION:2.0
PRODID:-//ChamberMaster//Event Calendar 2.0//EN
METHOD:PUBLISH
X-PUBLISHED-TTL:P3D
REFRESH-INTERVAL:P3D
CALSCALE:GREGORIAN
BEGIN:VEVENT
DTSTART:20190728T000000Z
DTEND:20190728T023000Z
X-MICROSOFT-CDO-ALLDAYEVENT:FALSE
SUMMARY:The Kingston Trio
DESCRIPTION:Fans of legendary folk icons The Kingston Trio will soon have an opportunity to re-discover their timeless music in a national tour to mark the group's 60th anniversary on a national tour performing many of the Trio's best-loved songs. All three current members\, Mike Marvin\, Tim Gorelangton and Bob Haworth have intrinsic links to and experience with the original group: Mike is the adopted son of founding member Nick Reynolds\, who was also his musical mentor\; Tim\, a close friend since boyhood\, is one of the few musicians outside the Trio who has recorded with Nick Reynolds\; and Bob Haworth\, who has performed with the original Trio for periods between 1985-1999 when Nick Reynolds was unable to tour. Many of their personal memories recall the iconic trio's performances and journey as folk music made its extraordinary ascent to the pinnacle of popular culture   and the top of the music charts.
X-ALT-DESC;FMTTYPE=text/html:Fans of legendary folk icons The Kingston Trio will soon have an opportunity to re-discover their timeless music in a national tour to mark the group&rsquo\;s 60th anniversary on a national tour performing many of the Trio&rsquo\;s best-loved songs. All three current members\, Mike Marvin\, Tim Gorelangton and Bob Haworth have intrinsic links to and experience with the original group: Mike is the adopted son of founding member Nick Reynolds\, who was also his musical mentor\; Tim\, a close friend since boyhood\, is one of the few musicians outside the Trio who has recorded with Nick Reynolds\; and Bob Haworth\, who has performed with the original Trio for periods between 1985-1999 when Nick Reynolds was unable to tour. Many of their personal memories recall the iconic trio&rsquo\;s performances and journey as folk music made its extraordinary ascent to the pinnacle of popular culture &ndash\; and the top of the music charts.
LOCATION:Vinegar Hill Music Theatre 53 Old Post Rd Arundel\, ME 04046
UID:e.1923.11546
SEQUENCE:3
DTSTAMP:20260424T183233Z
URL:https://chamber.gokennebunks.com/events/details/the-kingston-trio-07-27-2019-11546
END:VEVENT

END:VCALENDAR
