BEGIN:VCALENDAR
VERSION:2.0
PRODID:-//ChamberMaster//Event Calendar 2.0//EN
METHOD:PUBLISH
X-PUBLISHED-TTL:P3D
REFRESH-INTERVAL:P3D
CALSCALE:GREGORIAN
BEGIN:VEVENT
DTSTART:20180819T223000Z
DTEND:20180820T003000Z
X-MICROSOFT-CDO-ALLDAYEVENT:FALSE
SUMMARY:The Juanito Pascual New Flamenco Trio
DESCRIPTION:The Juanito Pascual New Flamenco Trio features Juanito Pascual on guitar\, Brad Barrett on bass\, and Jose Moreno on percussion. Pascual is an internationally recognized guitarist and ?flamenco phenom? (The Boston Globe). His sound is a truly organic blend of masterful traditional and contemporary flamenco with influences ranging from Jimi Hendrix and the Grateful Dead to Miles Davis and J.S. Bach.
X-ALT-DESC;FMTTYPE=text/html:The Juanito Pascual New Flamenco Trio features Juanito Pascual on guitar\, Brad Barrett on bass\, and Jose Moreno on percussion. Pascual is an internationally recognized guitarist and ?flamenco phenom? (The Boston Globe). His sound is a truly organic blend of masterful traditional and contemporary flamenco with influences ranging from Jimi Hendrix and the Grateful Dead to Miles Davis and J.S. Bach.
LOCATION:Vinegar Hill Music Theatre 53 Old Post Rd. Arundel\, ME 04046
UID:e.1923.7178
SEQUENCE:3
DTSTAMP:20260425T121310Z
URL:https://chamber.gokennebunks.com/events/details/the-juanito-pascual-new-flamenco-trio-7178
END:VEVENT

END:VCALENDAR
