BEGIN:VCALENDAR
VERSION:2.0
PRODID:-//ChamberMaster//Event Calendar 2.0//EN
METHOD:PUBLISH
X-PUBLISHED-TTL:P3D
REFRESH-INTERVAL:P3D
CALSCALE:GREGORIAN
BEGIN:VEVENT
DTSTART:20181021T000000Z
DTEND:20181021T020000Z
X-MICROSOFT-CDO-ALLDAYEVENT:FALSE
SUMMARY:The Hit Men
DESCRIPTION:The Hit Men are not a tribute band. They are the actual musicians and singers you heard on the original records\, listened to on the radio\, watched on TV and saw in concert. During this exciting multi-media production\, The Hit Men will take you behind the scenes with "insider" stories about what it was like on the road and in recording sessions with Frankie\, Tommy\, Carly\, Cat\, Jim\, Elton and many more.
X-ALT-DESC;FMTTYPE=text/html:The Hit Men are not a tribute band. They are the actual musicians and singers you heard on the original records\, listened to on the radio\, watched on TV and saw in concert. During this exciting multi-media production\, The Hit Men will take you behind the scenes with &ldquo\;insider&rdquo\; stories about what it was like on the road and in recording sessions with Frankie\, Tommy\, Carly\, Cat\, Jim\, Elton and many more.
LOCATION:Vinegar Hill Music Theatre 53 Old Post Rd. Arundel\, ME 04046
UID:e.1923.7184
SEQUENCE:3
DTSTAMP:20260425T103724Z
URL:https://chamber.gokennebunks.com/events/details/the-hit-men-7184
END:VEVENT

END:VCALENDAR
