BEGIN:VCALENDAR
VERSION:2.0
PRODID:-//ChamberMaster//Event Calendar 2.0//EN
METHOD:PUBLISH
X-PUBLISHED-TTL:P3D
REFRESH-INTERVAL:P3D
CALSCALE:GREGORIAN
BEGIN:VEVENT
DTSTART:20190714T000000Z
DTEND:20190714T023000Z
X-MICROSOFT-CDO-ALLDAYEVENT:FALSE
SUMMARY:The Hit Men
DESCRIPTION:On the road touring as THE HIT MEN\, this brotherhood of musicians relive the magic they created on world stages and in recording studios\, bringing audiences a night of hit after hit\, after hit -- including everyone's favorite Four Seasons songs like "Oh What a Night\, " "Who Loves You\," "Let's Hang On\," and more great tunes made even more famous by Broadway's Jersey Boys. And they also perform many other timeless hits that they helped make famous   including "Mony\, Mony\," "Peace Train\," "Bad\, Bad Leroy Brown\," "You're So Vain\," "Don't Stop Believing\," "The Loco-Motion\," and many more. During their performances\, THE HIT MEN also share behind-the-scenes stories and anecdotes from their days in recording studios and on the concert circuit\; it's an entertaining and informative look back through rock & roll history from the guys who lived and breathed the experience.
X-ALT-DESC;FMTTYPE=text/html:On the road touring as THE HIT MEN\, this brotherhood of musicians relive the magic they created on world stages and in recording studios\, bringing audiences a night of hit after hit\, after hit -- including everyone&rsquo\;s favorite Four Seasons songs like &ldquo\;Oh What a Night\, &rdquo\; &ldquo\;Who Loves You\,&rdquo\; &quot\;Let&#39\;s Hang On\,&quot\; and more great tunes made even more famous by Broadway&rsquo\;s Jersey Boys. And they also perform many other timeless hits that they helped make famous &ndash\; including &ldquo\;Mony\, Mony\,&rdquo\; &ldquo\;Peace Train\,&rdquo\; &ldquo\;Bad\, Bad Leroy Brown\,&quot\; &quot\;You&rsquo\;re So Vain\,&quot\; &quot\;Don&#39\;t Stop Believing\,&quot\; &quot\;The Loco-Motion\,&quot\; and many more. During their performances\, THE HIT MEN also share behind-the-scenes stories and anecdotes from their days in recording studios and on the concert circuit\; it&rsquo\;s an entertaining and informative look back through rock &amp\; roll history from the guys who lived and breathed the experience.
LOCATION:Vinegar Hill Music Theatre 53 Old Post Rd Arundel\, ME 04046
UID:e.1923.11543
SEQUENCE:3
DTSTAMP:20260424T183100Z
URL:https://chamber.gokennebunks.com/events/details/the-hit-men-07-13-2019-11543
END:VEVENT

END:VCALENDAR
