BEGIN:VCALENDAR
VERSION:2.0
PRODID:-//ChamberMaster//Event Calendar 2.0//EN
METHOD:PUBLISH
X-PUBLISHED-TTL:P3D
REFRESH-INTERVAL:P3D
CALSCALE:GREGORIAN
BEGIN:VEVENT
DTSTART:20240104T000000Z
DTEND:20240104T020000Z
X-MICROSOFT-CDO-ALLDAYEVENT:FALSE
SUMMARY:The Greatest Love of All\, a Whitney Houston tribute show starring Belinda Davids
DESCRIPTION:Whitney Houston's musical legacy is brought to life in Belinda Davids' critically acclaimed\, mind-blowingly spot-on tribute show to the pop legend. Accompanied by a live band\, backing vocalists and choreographed dancers\, plus state-of-the-art sound\, lighting\, vision and theatrical effects\, this special concert event will leave you wanting more and talking about it for years to come. This two-hour blockbuster will fill you with joy\, nostalgia\, and wonder as Davids takes you on a heartfelt\, classy journey through Houston's greatest hits\, including "I Will Always Love You\," "I Wanna Dance With Somebody\," "How Will I Know\," "One Moment in Time\," "I'm Every Woman" and more. $29-$59.
X-ALT-DESC;FMTTYPE=text/html:<p><span style="background-color:transparent\; color:rgb(0\, 0\, 0)\; font-family:trebuchet ms\,sans-serif\; font-size:11pt">Whitney Houston&rsquo\;s musical legacy is brought to life in Belinda Davids&rsquo\; critically acclaimed\, mind-blowingly spot-on tribute show to the pop legend. Accompanied by a live band\, backing vocalists and choreographed dancers\, plus state-of-the-art sound\, lighting\, vision and theatrical effects\, this special concert event will leave you wanting more and talking about it for years to come. This two-hour blockbuster will fill you with joy\, nostalgia\, and wonder as Davids takes you on a heartfelt\, classy journey through Houston&rsquo\;s greatest hits\, including &ldquo\;I Will Always Love You\,&rdquo\; &ldquo\;I Wanna Dance With Somebody\,&rdquo\; &ldquo\;How Will I Know\,&rdquo\; &ldquo\;One Moment in Time\,&rdquo\; &ldquo\;I&rsquo\;m Every Woman&rdquo\; and more. $29-$59.</span></p>\n
LOCATION:Sanford Performing Arts Center\, 100 Alumni Blvd.\, Sanford
UID:e.1923.22527
SEQUENCE:3
DTSTAMP:20260421T205108Z
URL:https://chamber.gokennebunks.com/events/details/the-greatest-love-of-all-a-whitney-houston-tribute-show-starring-belinda-davids-22527
END:VEVENT

END:VCALENDAR
