BEGIN:VCALENDAR
VERSION:2.0
PRODID:-//ChamberMaster//Event Calendar 2.0//EN
METHOD:PUBLISH
X-PUBLISHED-TTL:P3D
REFRESH-INTERVAL:P3D
CALSCALE:GREGORIAN
BEGIN:VEVENT
DTSTART:20191025T210000Z
DTEND:20191026T003000Z
X-MICROSOFT-CDO-ALLDAYEVENT:FALSE
SUMMARY:The Great Zombie Dash
DESCRIPTION:Bonfire\, S'mores\, cider\, music and more! Navigate your Zombie Apocalypse team through the haunted woods and survive the night with all your lives! If you have at least one "life" (flag football flag) left\, you will be entered into a raffle- prizes include Kennebunkport conservation Trust swag\, Kennbenukport Rec gift cards\, and more.
X-ALT-DESC;FMTTYPE=text/html:Bonfire\, S&#39\;mores\, cider\, music and more! Navigate your Zombie Apocalypse team through the haunted woods and survive the night with all your lives! If you have at least one &quot\;life&quot\; (flag football flag) left\, you will be entered into a raffle- prizes include Kennebunkport conservation Trust swag\, Kennbenukport Rec gift cards\, and more.
LOCATION:Kennebunkport Conservation Trust Headquarters\, 57 Graveley Brook Drive Kennebunkport
UID:e.1923.14482
SEQUENCE:3
DTSTAMP:20260424T140718Z
URL:https://chamber.gokennebunks.com/events/details/the-great-zombie-dash-14482
END:VEVENT

END:VCALENDAR
