BEGIN:VCALENDAR
VERSION:2.0
PRODID:-//ChamberMaster//Event Calendar 2.0//EN
METHOD:PUBLISH
X-PUBLISHED-TTL:P3D
REFRESH-INTERVAL:P3D
CALSCALE:GREGORIAN
BEGIN:VEVENT
DTSTART:20180722T223000Z
DTEND:20180723T003000Z
X-MICROSOFT-CDO-ALLDAYEVENT:FALSE
SUMMARY:The Gatlin Brothers - An Intimate Evening of Music and Stories
DESCRIPTION:The brothers to become an official trio and in 1979\, they signed a group deal with Columbia records. Throughout the 70?s and 80?s\, the Gatlin Brothers lit up major marquees and packed concert halls across America. After a brief hiatus from touring\, they are calling ?The Gatlin Brothers Never Ending Reunion Tour.?
X-ALT-DESC;FMTTYPE=text/html:The brothers to become an official trio and in 1979\, they signed a group deal with Columbia records. Throughout the 70?s and 80?s\, the Gatlin Brothers lit up major marquees and packed concert halls across America. After a brief hiatus from touring\, they are calling ?The Gatlin Brothers Never Ending Reunion Tour.?
LOCATION:Vinegar Hill Music Theatre 53 Old Post Rd. Arundel\, ME 04046
UID:e.1923.7186
SEQUENCE:3
DTSTAMP:20260425T133156Z
URL:https://chamber.gokennebunks.com/events/details/the-gatlin-brothers-an-intimate-evening-of-music-and-stories-7186
END:VEVENT

END:VCALENDAR
