BEGIN:VCALENDAR
VERSION:2.0
PRODID:-//ChamberMaster//Event Calendar 2.0//EN
METHOD:PUBLISH
X-PUBLISHED-TTL:P3D
REFRESH-INTERVAL:P3D
CALSCALE:GREGORIAN
BEGIN:VEVENT
DTSTART:20260214T230000Z
DTEND:20260215T013000Z
X-MICROSOFT-CDO-ALLDAYEVENT:FALSE
SUMMARY:The Galentine's Glow Up at Sovereign Earth
DESCRIPTION:Honoring the Woman in the Mirror and the Sisters by her Side\n\nThis Galentine's\, I'm opening up the studio for 8 women to gather for a night of sisterhood and self-worth. This isn't about your relationship status\; it's about the relationship you have with yourself and the women who stand beside you. We don't wear makeup to attract we wear it to improve our self-love and confidence.\n\nLet's be honest: We spend most of our lives pouring into everyone else. As an artist and formulator\, I know that makeup isn't a performance for others. It's a quiet\, powerful ritual. It's about that moment in the mirror when you realize you're still in there\, and you are worthy of your own attention.\n\nWhat we're doing:\n\n\n	\n	The Chair: You'll take a turn in my chair for a personalized signature makeover. I'll use my expert eye to find the exact shades that work for your skin tone\, highlighting your natural beauty so you look like you actually slept 8 hours.\n	\n	\n	The Beauty Bar: All my handmade blushes\, bronzers\, and lip products are out. Play with the colors\, see how they feel on your skin\, and find what actually works for you.\n	\n	\n	The Vibe: Good wine\, snacks\, and a low-pressure environment with other women who need a night out as much as you do.\n	\n	\n	The Photo: After your makeover\, I'll take a great photo of you against my white velvet backdrop. No filters just the best version of yourself.\n	\n\n\nThe Details:\n\n\n	\n	When: Saturday\, February 14th | 6:00 PM   8:30 PM\n	\n	\n	Price: $100 (Includes a $25 gift certificate for products to take home).\n	\n\n\nThere are only 8 chairs. Grab a friend and reclaim your glow.
X-ALT-DESC;FMTTYPE=text/html:<p><span style="font-size:18px"><strong>Honoring the Woman in the Mirror and the Sisters by her Side</strong></span></p>\n\n<div><span style="background-color:transparent\; color:rgb(0\, 0\, 0)\; font-family:arial\,sans-serif\; font-size:12pt">This Galentine&rsquo\;s\, I&rsquo\;m opening up the studio for 8 women to gather for a night of sisterhood and self-worth. This isn&#39\;t about your relationship status\; it&rsquo\;s about the relationship you have with yourself and the women who stand beside you. We don&#39\;t wear makeup to attract&mdash\;we wear it to improve our self-love and confidence.</span></div>\n\n<p><span style="background-color:transparent\; color:rgb(0\, 0\, 0)\; font-family:arial\,sans-serif\; font-size:12pt">Let&rsquo\;s be honest: We spend most of our lives pouring into everyone else. As an artist and formulator\, I know that makeup isn&#39\;t a performance for others. It&rsquo\;s a quiet\, powerful ritual. It&#39\;s about that moment in the mirror when you realize you&rsquo\;re still in there\, and you are worthy of your own attention.</span></p>\n\n<p><strong>What we&rsquo\;re doing:</strong></p>\n\n<ul>\n	<li>\n	<p><strong>The Chair:</strong><span style="background-color:transparent\; font-size:12pt"> You&rsquo\;ll take a turn in my chair for a personalized signature makeover. I&rsquo\;ll use my expert eye to find the exact shades that work for your skin tone\, highlighting your natural beauty so you look like you actually slept 8 hours.</span></p>\n	</li>\n	<li>\n	<p><strong>The Beauty Bar:</strong><span style="background-color:transparent\; font-size:12pt"> All my handmade blushes\, bronzers\, and lip products are out. Play with the colors\, see how they feel on your skin\, and find what actually works for you.</span></p>\n	</li>\n	<li>\n	<p><strong>The Vibe:</strong><span style="background-color:transparent\; font-size:12pt"> Good wine\, snacks\, and a low-pressure environment with other women who need a night out as much as you do.</span></p>\n	</li>\n	<li>\n	<p><strong>The Photo:</strong><span style="background-color:transparent\; font-size:12pt"> After your makeover\, I&rsquo\;ll take a great photo of you against my white velvet backdrop. No filters&mdash\;just the best version of yourself.</span></p>\n	</li>\n</ul>\n\n<p><strong>The Details:</strong></p>\n\n<ul>\n	<li>\n	<p><strong>When:</strong><span style="background-color:transparent\; font-size:12pt"> Saturday\, February 14th | 6:00 PM &ndash\; 8:30 PM</span></p>\n	</li>\n	<li>\n	<p><strong>Price:</strong><span style="background-color:transparent\; font-size:12pt"> $100 (Includes a $25 gift certificate for products to take home).</span></p>\n	</li>\n</ul>\n\n<p><span style="background-color:transparent\; color:rgb(0\, 0\, 0)\; font-family:arial\,sans-serif\; font-size:12pt">There are only 8 chairs. Grab a friend and reclaim your glow.</span></p>\n\n<div>&nbsp\;</div>\n
LOCATION:58 Portland Road\, Suite 18A\, Kennebunk Sovereign Earth Lab & Studio
UID:e.1923.38361
SEQUENCE:3
DTSTAMP:20260421T205006Z
URL:https://chamber.gokennebunks.com/events/details/the-galentine-s-glow-up-at-sovereign-earth-38361
END:VEVENT

END:VCALENDAR
