BEGIN:VCALENDAR
VERSION:2.0
PRODID:-//ChamberMaster//Event Calendar 2.0//EN
METHOD:PUBLISH
X-PUBLISHED-TTL:P3D
REFRESH-INTERVAL:P3D
CALSCALE:GREGORIAN
BEGIN:VEVENT
DTSTART:20240120T200000Z
DTEND:20240120T220000Z
X-MICROSOFT-CDO-ALLDAYEVENT:FALSE
SUMMARY:The Fourth Wall "Fruit Flies like a Banana"
DESCRIPTION:Few musical ensembles earn top marks for their hoverboard skills or "deft choreography\," but this is no ordinary ensemble. Part chamber music group\, part devised theater company\, part modern dance troupe\, part circus act\, The Fourth Wall blends music\, theater\, dance\, and acrobatics into a new hybrid art form. In their award-winning variety show "Fruit Flies Like a Banana\," this trio of musicians creates new interdisciplinary works and reinterprets classic repertoire-all performed in an order chosen by the audience-to make music that leaps off the stage. $15-$25.
X-ALT-DESC;FMTTYPE=text/html:<p><span style="background-color:transparent\; color:rgb(0\, 0\, 0)\; font-family:trebuchet ms\,sans-serif\; font-size:11pt">Few musical ensembles earn top marks for their hoverboard skills or &ldquo\;deft choreography\,&rdquo\; but this is no ordinary ensemble. Part chamber music group\, part devised theater company\, part modern dance troupe\, part circus act\, The Fourth Wall blends music\, theater\, dance\, and acrobatics into a new hybrid art form. In their award-winning variety show &ldquo\;Fruit Flies Like a Banana\,&ldquo\; this trio of musicians creates new interdisciplinary works and reinterprets classic repertoire-all performed in an order chosen by the audience-to make music that leaps off the stage. $15-$25.</span></p>\n
LOCATION:Sanford Performing Arts Center\, 100 Alumni Blvd.\, Sanford
UID:e.1923.22528
SEQUENCE:3
DTSTAMP:20260421T204832Z
URL:https://chamber.gokennebunks.com/events/details/the-fourth-wall-fruit-flies-like-a-banana-22528
END:VEVENT

END:VCALENDAR
