BEGIN:VCALENDAR
VERSION:2.0
PRODID:-//ChamberMaster//Event Calendar 2.0//EN
METHOD:PUBLISH
X-PUBLISHED-TTL:P3D
REFRESH-INTERVAL:P3D
CALSCALE:GREGORIAN
BEGIN:VEVENT
DTSTART:20240211T000000Z
DTEND:20240211T020000Z
X-MICROSOFT-CDO-ALLDAYEVENT:FALSE
SUMMARY:The Four C Notes. a Tribute to Frankie Valli and The Four Seasons
DESCRIPTION:Treat your Valentine to North America's premier tribute to Frankie Valli and The Four Seasons. Created by Jersey Boys star John Michael Coppola\, The Four C Notes deliver an authentic show with their spectacular vocals\, matching vintage outfits\, and crisp choreography! Backed by a dynamic seven-piece rhythm and horn ensemble\, The Four C Notes will perform all your favorite hits: "Sherry\," "Big Girls Don't Cry\," "Walk Like a Man\," "Can't Take My Eyes Off You\," "Workin' My Way Back To You (Babe)\," "Let's Hang On\," "December 1963 (Oh\, What A Night)" and many\, many more!
X-ALT-DESC;FMTTYPE=text/html:<p><span style="background-color:transparent\; color:rgb(0\, 0\, 0)\; font-family:trebuchet ms\,sans-serif\; font-size:11pt">Treat your Valentine to North America&rsquo\;s premier tribute to Frankie Valli and The Four Seasons. Created by Jersey Boys star John Michael Coppola\, The Four C Notes deliver an authentic show with their spectacular vocals\, matching vintage outfits\, and crisp choreography! Backed by a dynamic seven-piece rhythm and horn ensemble\, The Four C Notes will perform all your favorite hits: &ldquo\;Sherry\,&rdquo\; &ldquo\;Big Girls Don&rsquo\;t Cry\,&rdquo\; &ldquo\;Walk Like a Man\,&rdquo\; &ldquo\;Can&rsquo\;t Take My Eyes Off You\,&rdquo\; &ldquo\;Workin&rsquo\; My Way Back To You (Babe)\,&rdquo\; &ldquo\;Let&rsquo\;s Hang On\,&rdquo\; &ldquo\;December 1963 (Oh\, What A Night)&rdquo\; and many\, many more!&nbsp\;</span></p>\n\n<div>&nbsp\;</div>\n
LOCATION:Sanford Performing Arts Center\, 100 Alumni Blvd.\, Sanford
UID:e.1923.22530
SEQUENCE:3
DTSTAMP:20260421T205058Z
URL:https://chamber.gokennebunks.com/events/details/the-four-c-notes-a-tribute-to-frankie-valli-and-the-four-seasons-22530
END:VEVENT

END:VCALENDAR
