BEGIN:VCALENDAR
VERSION:2.0
PRODID:-//ChamberMaster//Event Calendar 2.0//EN
METHOD:PUBLISH
X-PUBLISHED-TTL:P3D
REFRESH-INTERVAL:P3D
CALSCALE:GREGORIAN
BEGIN:VEVENT
DTSTART:20190928T000000Z
DTEND:20190928T020000Z
X-MICROSOFT-CDO-ALLDAYEVENT:FALSE
SUMMARY:The Four C Notes
DESCRIPTION:We are thrilled to bring back to Vinegar Hill Music Theatre... THE FOUR C NOTES. They are Chicago's ONLY tribute recreating the iconic sounds of Frankie Valli and The Four Seasons! Pioneered and headlined by John Michael Coppola best known for his appearance in Chicago's long running production of the Broadway smash hit JERSEY BOYS! Get ready for a night you will never want to forget with hits like "Sherry"\, "Walk Like a Man"\, "Oh What a Night"\, and many\, many more!
X-ALT-DESC;FMTTYPE=text/html:We are thrilled to bring back to Vinegar Hill Music Theatre... THE FOUR C NOTES. They are Chicago&rsquo\;s ONLY tribute recreating the iconic sounds of Frankie Valli and The Four Seasons! Pioneered and headlined by John Michael Coppola best known for his appearance in Chicago&rsquo\;s long running production of the Broadway smash hit JERSEY BOYS! Get ready for a night you will never want to forget with hits like &quot\;Sherry&quot\;\, &quot\;Walk Like a Man&quot\;\, &quot\;Oh What a Night&quot\;\, and many\, many more!
LOCATION:Vinegar Hill Music Theatre\, 53 Old Post Road\, Arundel
UID:e.1923.13112
SEQUENCE:3
DTSTAMP:20260424T153736Z
URL:https://chamber.gokennebunks.com/events/details/the-four-c-notes-13112
END:VEVENT

END:VCALENDAR
