BEGIN:VCALENDAR
VERSION:2.0
PRODID:-//ChamberMaster//Event Calendar 2.0//EN
METHOD:PUBLISH
X-PUBLISHED-TTL:P3D
REFRESH-INTERVAL:P3D
CALSCALE:GREGORIAN
BEGIN:VEVENT
DTSTART:20240810T000000Z
DTEND:20240810T020000Z
X-MICROSOFT-CDO-ALLDAYEVENT:FALSE
SUMMARY:The Finestkind with Kenya Hall and Joshua Eden
DESCRIPTION:Food Truck 6pm | Doors 7pm | Show 8pm
X-ALT-DESC;FMTTYPE=text/html:<div>\n<div><strong>Food Truck 6pm | Doors 7pm | Show 8pm</strong></div>\n</div>\n\n<div>\n<div>\n<ul style="list-style-type:none">\n	<li>&nbsp\;</li>\n</ul>\n</div>\n</div>\n
LOCATION:Vinegar Hill Music Theatre 53 Old Post Road Arundel\, Maine 04046
UID:e.1923.25366
SEQUENCE:3
DTSTAMP:20260421T124433Z
URL:https://chamber.gokennebunks.com/events/details/the-finestkind-with-kenya-hall-and-joshua-eden-25366
END:VEVENT

END:VCALENDAR
