BEGIN:VCALENDAR
VERSION:2.0
PRODID:-//ChamberMaster//Event Calendar 2.0//EN
METHOD:PUBLISH
X-PUBLISHED-TTL:P3D
REFRESH-INTERVAL:P3D
CALSCALE:GREGORIAN
BEGIN:VEVENT
DTSTART:20180812T000000Z
DTEND:20180812T020000Z
X-MICROSOFT-CDO-ALLDAYEVENT:FALSE
SUMMARY:The Doo Wop Project
DESCRIPTION:Enjoy a night filled with harmonies and classic ?60s hits such as Dion and the Belmonts? ?I Wonder Why?\, Thurston Harris? ?Little Bitty Pretty One?\, The Del-Vikings ?Come and Go With Me?\, The Capris? ?Morse Code of Love?\, and many more. The show also includes doo-wop-inspired renditions of contemporary songs such as Amy Winehouse?s ?Valerie?\, Michael Jackson?s ?The Way You Make Me Feel?\, and Jason Mraz?s ?I?m Yours."
X-ALT-DESC;FMTTYPE=text/html:Enjoy a night filled with harmonies and classic ?60s hits such as Dion and the Belmonts? ?I Wonder Why?\, Thurston Harris? ?Little Bitty Pretty One?\, The Del-Vikings ?Come and Go With Me?\, The Capris? ?Morse Code of Love?\, and many more. The show also includes doo-wop-inspired renditions of contemporary songs such as Amy Winehouse?s ?Valerie?\, Michael Jackson?s ?The Way You Make Me Feel?\, and Jason Mraz?s ?I?m Yours."
LOCATION:Vinegar Hill Music Theatre 53 Old Post Rd. Arundel\, ME 04046
UID:e.1923.7176
SEQUENCE:3
DTSTAMP:20260425T103800Z
URL:https://chamber.gokennebunks.com/events/details/the-doo-wop-project-7176
END:VEVENT

END:VCALENDAR
