BEGIN:VCALENDAR
VERSION:2.0
PRODID:-//ChamberMaster//Event Calendar 2.0//EN
METHOD:PUBLISH
X-PUBLISHED-TTL:P3D
REFRESH-INTERVAL:P3D
CALSCALE:GREGORIAN
BEGIN:VEVENT
DTSTART:20190713T000000Z
DTEND:20190713T020000Z
X-MICROSOFT-CDO-ALLDAYEVENT:FALSE
SUMMARY:The Doo Wop Project
DESCRIPTION:Featuring current and former stars of Broadway's smash hits Jersey Boys and Motown: The Musical\, and their hot band\, The Doo Wop Project brings unparalleled authenticity of sound and vocal excellence to recreate   and in some cases entirely reimagine   some of the greatest music in American pop and rock history. Enjoy a night filled with harmonies and classic '60s hits such as Dion and the Belmonts' "I Wonder Why"\, Thurston Harris' "Little Bitty Pretty One"\, The Del-Vikings "Come and Go With Me"\, The Capris' "Morse Code of Love"\, and many more. The show also includes doo-wop-inspired renditions of contemporary songs such as Amy Winehouse's "Valerie"\, Michael Jackson's "The Way You Make Me Feel"\, and Jason Mraz's "I'm Yours". The level of talent\, artistry and ability to entertain is off the charts with this show. It's an evening of pure energy and magic\, where you'll be lifted from your seat with excitement by the power and charisma of these gifted young performers.
X-ALT-DESC;FMTTYPE=text/html:Featuring current and former stars of Broadway&rsquo\;s smash hits Jersey Boys and Motown: The Musical\, and their hot band\, The Doo Wop Project brings unparalleled authenticity of sound and vocal excellence to recreate &mdash\; and in some cases entirely reimagine &mdash\; some of the greatest music in American pop and rock history. Enjoy a night filled with harmonies and classic &lsquo\;60s hits such as Dion and the Belmonts&rsquo\; &ldquo\;I Wonder Why&rdquo\;\, Thurston Harris&rsquo\; &ldquo\;Little Bitty Pretty One&rdquo\;\, The Del-Vikings &ldquo\;Come and Go With Me&rdquo\;\, The Capris&rsquo\; &ldquo\;Morse Code of Love&rdquo\;\, and many more. The show also includes doo-wop-inspired renditions of contemporary songs such as Amy Winehouse&rsquo\;s &ldquo\;Valerie&rdquo\;\, Michael Jackson&rsquo\;s &ldquo\;The Way You Make Me Feel&rdquo\;\, and Jason Mraz&rsquo\;s &ldquo\;I&rsquo\;m Yours&rdquo\;. The level of talent\, artistry and ability to entertain is off the charts with this show. It&rsquo\;s an evening of pure energy and magic\, where you&rsquo\;ll be lifted from your seat with excitement by the power and charisma of these gifted young performers.
LOCATION:Vinegar Hill Music Theatre 53 Old Post Rd. Arundel\, ME 04046
UID:e.1923.13086
SEQUENCE:3
DTSTAMP:20260424T194417Z
URL:https://chamber.gokennebunks.com/events/details/the-doo-wop-project-07-12-2019-13086
END:VEVENT

END:VCALENDAR
