BEGIN:VCALENDAR
VERSION:2.0
PRODID:-//ChamberMaster//Event Calendar 2.0//EN
METHOD:PUBLISH
X-PUBLISHED-TTL:P3D
REFRESH-INTERVAL:P3D
CALSCALE:GREGORIAN
BEGIN:VEVENT
DTSTART:20191024T200000Z
DTEND:20191024T230000Z
X-MICROSOFT-CDO-ALLDAYEVENT:FALSE
SUMMARY:The Daily Sweat Open House
DESCRIPTION:We're hosting our tribe and their businesses for a special open house night. Come meet the amazing humans that make up our community\, see what they create and join us for complimentary classes at 4:30P\, 5:45P and 7P.
X-ALT-DESC;FMTTYPE=text/html:We're hosting our tribe and their businesses for a special open house night. Come meet the amazing humans that make up our community\, see what they create and join us for complimentary classes at 4:30P\, 5:45P and 7P.\n   
LOCATION:The Daily Sweat Yoga + Barre 65 Portland Rd\, Kennebunk ME Building A\, Unit D
UID:e.1923.13475
SEQUENCE:3
DTSTAMP:20260424T153950Z
URL:https://chamber.gokennebunks.com/events/details/the-daily-sweat-open-house-13475
END:VEVENT

END:VCALENDAR
