BEGIN:VCALENDAR
VERSION:2.0
PRODID:-//ChamberMaster//Event Calendar 2.0//EN
METHOD:PUBLISH
X-PUBLISHED-TTL:P3D
REFRESH-INTERVAL:P3D
CALSCALE:GREGORIAN
BEGIN:VEVENT
DTSTART:20231021T230000Z
DTEND:20231022T010000Z
X-MICROSOFT-CDO-ALLDAYEVENT:FALSE
SUMMARY:The Capitol Fools
DESCRIPTION:The Capitol Fools hold up a mirror to our stranger-than-fiction political culture through outrageous song parodies and uncanny reflections that will bowl you over with belly laughter. Familiar audiences will recognize cast members from past seasons of the Capitol Steps performing all the beloved bits\, the mind-boggling backward-talking spoonerisms\, break-neck costume changes\, over-the-top impressions\, and all-new song parodies reflecting the day's news. They will give you a memory that will last a lunchtime. When Washington\, D.C.'s premiere political satire group\, The Capitol Steps\, called it quits after nearly 40 years\, The Capitol Fools were born! As fast-paced and laugh-out-loud as ever\, these fools skewer both sides of the aisle. This comedy is the best medicine for what ails our government\, and we have the constitutional right to laugh! The spirit\, irreverence\, and DNA of The Capitol Steps lives on with The Capitol Fools! It's a political comedy that will unite us with humor we can all agree on! Tickets are $29-$49.
X-ALT-DESC;FMTTYPE=text/html:<p><span style="background-color:transparent\; color:rgb(0\, 0\, 0)\; font-family:trebuchet ms\,sans-serif\; font-size:11pt">The Capitol Fools hold up a mirror to our stranger-than-fiction political culture through outrageous song parodies and uncanny reflections that will bowl you over with belly laughter. Familiar audiences will recognize cast members from past seasons of the Capitol Steps performing all the beloved bits\, the mind-boggling backward-talking spoonerisms\, break-neck costume changes\, over-the-top impressions\, and all-new song parodies reflecting the day&rsquo\;s news. They will give you a memory that will last a lunchtime. When Washington\, D.C.&rsquo\;s premiere political satire group\, The Capitol Steps\, called it quits after nearly 40 years\, The Capitol Fools were born! As fast-paced and laugh-out-loud as ever\, these fools skewer both sides of the aisle. This comedy is the best medicine for what ails our government\, and we have the constitutional right to laugh! The spirit\, irreverence\, and DNA of The Capitol Steps lives on with The Capitol Fools! It&rsquo\;s a political comedy that will unite us with humor we can all agree on! Tickets are $29-$49.</span></p>\n
LOCATION:Sanford Performing Arts Center\, 100 Alumni Blvd.\, Sanford
UID:e.1923.22523
SEQUENCE:3
DTSTAMP:20260422T021402Z
URL:https://chamber.gokennebunks.com/events/details/the-capitol-fools-10-21-2023-22523
END:VEVENT

END:VCALENDAR
