BEGIN:VCALENDAR
VERSION:2.0
PRODID:-//ChamberMaster//Event Calendar 2.0//EN
METHOD:PUBLISH
X-PUBLISHED-TTL:P3D
REFRESH-INTERVAL:P3D
CALSCALE:GREGORIAN
BEGIN:VEVENT
DTSTART:20230429T180000Z
DTEND:20230429T190000Z
X-MICROSOFT-CDO-ALLDAYEVENT:FALSE
SUMMARY:The Burleigh Bar Cart: Cocktail Classes
DESCRIPTION:This Spring we're sharing our Burleigh Bar Cart with you! Come in and learn to make some of our favorite drinks and sample them\, too! \n\n\n\n\n\n	Hey There HOPS Stuff: Brews & Beers | Mar 4th\, 2PM\n	St. Patrick's Day Cocktail Mixology | Mar 18th\, 2PM\n	Poppin' Bottles of Bubbles | Mar 25th\, 2PM\n	But First\, Tequila | May 6th\, 2PM\n\n\nClasses are Saturdays from 2-3pm at the Bar. Cost is $25 per person and includes sample drinks and light snacks.\nPurchase Tickets: https://www.eventbrite.com/o/kennebunkport-resort-collection-8295220906
X-ALT-DESC;FMTTYPE=text/html:<div style="text-align:center">\n<div style="background:transparent\; border:0px rgb(229\, 229\, 229)\; padding:0px">\n<h2 style="text-align:left"><span style="font-size:11px"><span style="font-family:times new roman">This Spring we&#39\;re sharing our Burleigh Bar Cart with you! Come in and learn to make some of our favorite drinks and sample them\, too!&nbsp\;</span></span></h2>\n</div>\n</div>\n\n<div>\n<ul>\n	<li><span style="font-size:11px"><span style="font-family:times new roman"><strong>Hey There HOPS Stuff: Brews &amp\; Beers&nbsp\;</strong>| Mar 4th\, 2PM</span></span></li>\n	<li><span style="font-size:11px"><span style="font-family:times new roman"><strong>St. Patrick&rsquo\;s Day Cocktail Mixology&nbsp\;</strong>| Mar 18th\, 2PM</span></span></li>\n	<li><span style="font-size:11px"><span style="font-family:times new roman"><strong>Poppin&rsquo\; Bottles of Bubbles&nbsp\;</strong>| Mar 25th\, 2PM</span></span></li>\n	<li><span style="font-size:11px"><span style="font-family:times new roman"><strong>But First\, Tequila</strong>&nbsp\;| May 6th\, 2PM</span></span></li>\n</ul>\n\n<h3><span style="font-size:11px"><span style="font-family:times new roman"><strong>Classes are Saturdays from 2-3pm at the Bar. Cost is $25 per person and includes sample drinks and light snacks.</strong></span></span></h3>\n<span style="font-size:11px"><span style="font-family:times new roman"><strong>Purchase Tickets:&nbsp\;<a href="https://www.eventbrite.com/o/kennebunkport-resort-collection-8295220906">https://www.eventbrite.com/o/kennebunkport-resort-collection-8295220906</a></strong></span></span></div>\n
LOCATION:The Burleigh at Kennebunkport Inn One Dock Square Kennebunkport\, Maine 04046
UID:e.1923.18535
SEQUENCE:3
DTSTAMP:20260424T101505Z
URL:https://chamber.gokennebunks.com/events/details/the-burleigh-bar-cart-cocktail-classes-04-29-2023-18535
END:VEVENT

END:VCALENDAR
