BEGIN:VCALENDAR
VERSION:2.0
PRODID:-//ChamberMaster//Event Calendar 2.0//EN
METHOD:PUBLISH
X-PUBLISHED-TTL:P3D
REFRESH-INTERVAL:P3D
CALSCALE:GREGORIAN
BEGIN:VEVENT
DTSTART:20250712T140000Z
DTEND:20250712T200000Z
X-MICROSOFT-CDO-ALLDAYEVENT:FALSE
SUMMARY:The Bouquet Bar
DESCRIPTION:Create your very own flower bouquet each weekend (Friday - Sunday) all summer long! We source all local flowers and work with growers to provide an array of colors and options. Each flower is priced per stem and our team is there to guide you along the process and assist as needed. Once you pick your flowers we will wrap them up for you or\, you can choose from our selection of vases to design your bouquet in directly! This is a fantastic way to create something personal for someone else or to brighten up your own space all week long!
X-ALT-DESC;FMTTYPE=text/html:Create your very own flower bouquet each weekend (Friday - Sunday) all summer long! We source all local flowers and work with growers to provide an array of colors and options. Each flower is priced per stem and our team is there to guide you along the process and assist as needed. Once you pick your flowers we will wrap them up for you or\, you can choose from our selection of vases to design your bouquet in directly! This is a fantastic way to create something personal for someone else or to brighten up your own space all week long!<br />\n<br />\n&nbsp\;
LOCATION:Join us on our farm stand directly in front of The Magic Sprout Garden Shop!
UID:e.1923.35944
SEQUENCE:3
DTSTAMP:20260421T073439Z
URL:https://chamber.gokennebunks.com/events/details/the-bouquet-bar-07-12-2025-35944
END:VEVENT

END:VCALENDAR
