BEGIN:VCALENDAR
VERSION:2.0
PRODID:-//ChamberMaster//Event Calendar 2.0//EN
METHOD:PUBLISH
X-PUBLISHED-TTL:P3D
REFRESH-INTERVAL:P3D
CALSCALE:GREGORIAN
BEGIN:VEVENT
DTSTART:20190616T000000Z
DTEND:20190616T023000Z
X-MICROSOFT-CDO-ALLDAYEVENT:FALSE
SUMMARY:The Bobby Darin Show
DESCRIPTION:Had he lived\, he would have been bigger than Sinatra. Teen Idol\, Singer-Songwriter\, Movie Star and Nightclub Performer Bobby Darin   his music\, his life and times   are celebrated in grand style by NYC entertainment agent and showman Ron Gartner\, with his swinging band. Snap your fingers to great Darin hits like Mack The Knife\, Splish Splash\, Dream Lover\, Beyond the Sea\, Clementine\, and many many more. Hear the backstage stories about this Entertainment Phenomenon who learned at an early age that he was doomed to die an early death and was determined to "do it all" before he expired. Come\, honor the legacy of the swingin-est guy who ever put on a tux in a show that covers everything from Darin's rock 'n' roll days to his legendary Evening at the Copa. If you loved Bobby Darin\, this show is a must-see!
X-ALT-DESC;FMTTYPE=text/html:Had he lived\, he would have been bigger than Sinatra. Teen Idol\, Singer-Songwriter\, Movie Star and Nightclub Performer Bobby Darin &ndash\; his music\, his life and times &ndash\; are celebrated in grand style by NYC entertainment agent and showman Ron Gartner\, with his swinging band. Snap your fingers to great Darin hits like Mack The Knife\, Splish Splash\, Dream Lover\, Beyond the Sea\, Clementine\, and many many more. Hear the backstage stories about this Entertainment Phenomenon who learned at an early age that he was doomed to die an early death and was determined to &ldquo\;do it all&rdquo\; before he expired. Come\, honor the legacy of the swingin-est guy who ever put on a tux in a show that covers everything from Darin&rsquo\;s rock &lsquo\;n&rsquo\; roll days to his legendary Evening at the Copa. If you loved Bobby Darin\, this show is a must-see!
LOCATION:Vinegar Hill Music Theatre 53 Old Post Rd Arundel\, ME 04046
UID:e.1923.12833
SEQUENCE:3
DTSTAMP:20260424T205922Z
URL:https://chamber.gokennebunks.com/events/details/the-bobby-darin-show-12833
END:VEVENT

END:VCALENDAR
