BEGIN:VCALENDAR
VERSION:2.0
PRODID:-//ChamberMaster//Event Calendar 2.0//EN
METHOD:PUBLISH
X-PUBLISHED-TTL:P3D
REFRESH-INTERVAL:P3D
CALSCALE:GREGORIAN
BEGIN:VEVENT
DTSTART:20180824T000000Z
DTEND:20180824T020000Z
X-MICROSOFT-CDO-ALLDAYEVENT:FALSE
SUMMARY:The Best of Second City
DESCRIPTION:Come laugh your night away with The Best of Second City! Some of the best comedians have come out of this traveling improv group!
X-ALT-DESC;FMTTYPE=text/html:Come laugh your night away with The Best of Second City! Some of the best comedians have come out of this traveling improv group!
LOCATION:Vinegar Hill Music Theatre 53 Old Post Rd. Arundel\, ME 04046
UID:e.1923.7179
SEQUENCE:3
DTSTAMP:20260425T120231Z
URL:https://chamber.gokennebunks.com/events/details/the-best-of-second-city-7179
END:VEVENT

END:VCALENDAR
