BEGIN:VCALENDAR
VERSION:2.0
PRODID:-//ChamberMaster//Event Calendar 2.0//EN
METHOD:PUBLISH
X-PUBLISHED-TTL:P3D
REFRESH-INTERVAL:P3D
CALSCALE:GREGORIAN
BEGIN:VEVENT
DTSTART:20180721T000000Z
DTEND:20180721T023000Z
X-MICROSOFT-CDO-ALLDAYEVENT:FALSE
SUMMARY:The Belmonts
DESCRIPTION:Their vocal talent as a singing group was displayed prominently on all the recordings with their collective musical tastes ranging from rock 'n roll to jazz\, to country\, to pop and blues
X-ALT-DESC;FMTTYPE=text/html:Their vocal talent as a singing group was displayed prominently on all the recordings with their collective musical tastes ranging from rock &rsquo\;n roll to jazz\, to country\, to pop and blues
LOCATION:Vinegar Hill Music Theatre 53 Old Post Rd. Arundel\, ME 04046
UID:e.1923.9794
SEQUENCE:3
DTSTAMP:20260425T132550Z
URL:https://chamber.gokennebunks.com/events/details/the-belmonts-9794
END:VEVENT

END:VCALENDAR
