BEGIN:VCALENDAR
VERSION:2.0
PRODID:-//ChamberMaster//Event Calendar 2.0//EN
METHOD:PUBLISH
X-PUBLISHED-TTL:P3D
REFRESH-INTERVAL:P3D
CALSCALE:GREGORIAN
BEGIN:VEVENT
DTSTART:20180701T000000Z
DTEND:20180701T020000Z
X-MICROSOFT-CDO-ALLDAYEVENT:FALSE
SUMMARY:The Awesome
DESCRIPTION:As part of our ?Weekend of Alzheimer?s Awareness?\, we welcome THE ULTIMATE 80?s Cover Band\, The AWESOME to our stage! Hailing from Portland\, Maine?the Awesome are comprised of seasoned musicians with experience in several of Maine?s most popular bands. Now these talented performers have teamed up to form the ultimate party band?.packing sold out crowds at premier nightclubs in the state\, and beyond. $10.00 of every ticket purchased will go to the Maine Chapter of Alzheimer's Association!
X-ALT-DESC;FMTTYPE=text/html:As part of our ?Weekend of Alzheimer?s Awareness?\, we welcome THE ULTIMATE 80?s Cover Band\, The AWESOME to our stage! Hailing from Portland\, Maine?the Awesome are comprised of seasoned musicians with experience in several of Maine?s most popular bands. Now these talented performers have teamed up to form the ultimate party band?.packing sold out crowds at premier nightclubs in the state\, and beyond. $10.00 of every ticket purchased will go to the Maine Chapter of Alzheimer's Association!
LOCATION:Vinegar Hill Music Theatre 53 Old Post Rd. Arundel\, ME 04046
UID:e.1923.7165
SEQUENCE:3
DTSTAMP:20260425T143024Z
URL:https://chamber.gokennebunks.com/events/details/the-awesome-7165
END:VEVENT

END:VCALENDAR
