BEGIN:VCALENDAR
VERSION:2.0
PRODID:-//ChamberMaster//Event Calendar 2.0//EN
METHOD:PUBLISH
X-PUBLISHED-TTL:P3D
REFRESH-INTERVAL:P3D
CALSCALE:GREGORIAN
BEGIN:VEVENT
DTSTART:20191128T130000Z
DTEND:20191128T140000Z
X-MICROSOFT-CDO-ALLDAYEVENT:FALSE
SUMMARY:Thanksgiving Day Charity Workout
DESCRIPTION:Join us for a fun workout to help a great cause! Open to the public\, all ages welcome\, we simply ask you make a donation of your choosing to support the Center for Grieving Children. Bring your friends and family to kick off the holidays by giving back!
X-ALT-DESC;FMTTYPE=text/html:<span style="color:rgb(29\, 33\, 41)\; font-family:helvetica neue\,helvetica\,arial\,sans-serif\; font-size:14px">Join us for a fun workout to help a great cause! Open to the public\, all ages welcome\, we simply ask you make a donation of your choosing to support the Center for Grieving Children. Bring your friends and family to kick off the holidays by giving back!</span>
LOCATION:Spurling Fitness 1 Alewive Park Road Kennebunk\, ME 04043
UID:e.1923.15520
SEQUENCE:3
DTSTAMP:20260424T124521Z
URL:https://chamber.gokennebunks.com/events/details/thanksgiving-day-charity-workout-15520
END:VEVENT

END:VCALENDAR
