BEGIN:VCALENDAR
VERSION:2.0
PRODID:-//ChamberMaster//Event Calendar 2.0//EN
METHOD:PUBLISH
X-PUBLISHED-TTL:P3D
REFRESH-INTERVAL:P3D
CALSCALE:GREGORIAN
BEGIN:VEVENT
DTSTART:20240321T191500Z
DTEND:20240321T201500Z
X-MICROSOFT-CDO-ALLDAYEVENT:FALSE
SUMMARY:Teen Yoga
DESCRIPTION:this one is for the teens. 6-12 graders can join us for an hour of yoga after school.  we will explore strength\, flexibility\, balance\, relaxation + stress relief in a safe\, judgement free space.  parents/guardians can check with the transportation department as there may be a bus route that drops off at the hannaford shopping plaza.   we have changing rooms available so teens can change into comfortable exercise clothing + settle in for class. $10 / drop in or sign up for all 4 weeks for $30
X-ALT-DESC;FMTTYPE=text/html:<span style="color:rgb(0\, 0\, 0)\; font-family:bitter\; font-size:19.5324px">this one is for the teens. 6-12 graders can join us for an hour of yoga after school.&nbsp\; we will explore strength\, flexibility\, balance\, relaxation + stress relief in a safe\, judgement free space.&nbsp\; parents/guardians can check with the transportation department as there may be a bus route that drops off at the hannaford shopping plaza.&nbsp\;&nbsp\;&nbsp\;we have changing rooms available so teens can change into comfortable exercise clothing + settle in for class.&nbsp\;$10 / drop in or sign up for all 4 weeks for $30</span>
LOCATION:The Daily Sweat 65 Portland RD Kennebunk\, ME 04043
UID:e.1923.24406
SEQUENCE:3
DTSTAMP:20260421T180848Z
URL:https://chamber.gokennebunks.com/events/details/teen-yoga-03-21-2024-24406
END:VEVENT

END:VCALENDAR
