BEGIN:VCALENDAR
VERSION:2.0
PRODID:-//ChamberMaster//Event Calendar 2.0//EN
METHOD:PUBLISH
X-PUBLISHED-TTL:P3D
REFRESH-INTERVAL:P3D
CALSCALE:GREGORIAN
BEGIN:VEVENT
DTSTART:20191105T200000Z
DTEND:20191105T210000Z
X-MICROSOFT-CDO-ALLDAYEVENT:FALSE
SUMMARY:teen sweat + flow
DESCRIPTION:this one is for the teens! 6th -12th graders can join us for  yoga class for strength\, flexibility and centering. Perfectly spaced between fall + winter sports\, this class is a great after school activity. bus 17 drops off at the Hannaford shopping plaza around 2:30 so teens will have time to walk over\, change and settle in for class. \n \nclass is a $5 drop in
X-ALT-DESC;FMTTYPE=text/html:this one is for the teens! 6th -12th graders can join us for  yoga class for strength\, flexibility and centering. Perfectly spaced between fall + winter sports\, this class is a great after school activity. bus 17 drops off at the Hannaford shopping plaza around 2:30 so teens will have time to walk over\, change and settle in for class. \n \nclass is a $5 drop in
LOCATION:The Daily Sweat
UID:e.1923.14484
SEQUENCE:3
DTSTAMP:20260424T124522Z
URL:https://chamber.gokennebunks.com/events/details/teen-sweat-flow-14484
END:VEVENT

END:VCALENDAR
