BEGIN:VCALENDAR
VERSION:2.0
PRODID:-//ChamberMaster//Event Calendar 2.0//EN
METHOD:PUBLISH
X-PUBLISHED-TTL:P3D
REFRESH-INTERVAL:P3D
CALSCALE:GREGORIAN
BEGIN:VEVENT
DTSTART:20251211T003000Z
DTEND:20251211T010000Z
X-MICROSOFT-CDO-ALLDAYEVENT:FALSE
SUMMARY:teacher training info session
DESCRIPTION:do you love taking classes classes? interested in becoming a teacher? join us for this 1/2 hour informational session where you can learn more about our teacher training and have all of your questions answered. this info session is offered via zoom.
X-ALT-DESC;FMTTYPE=text/html:do you love taking classes classes? interested in becoming a teacher? join us for this 1/2 hour informational session where you can learn more about our teacher training and have all of your questions answered. this info session is offered via zoom.&nbsp\;
LOCATION:65 Portland RD\, Kennebunk ME\, 04043
UID:e.1923.38149
SEQUENCE:3
DTSTAMP:20260421T180354Z
URL:https://chamber.gokennebunks.com/events/details/teacher-training-info-session-12-10-2025-38149
END:VEVENT

END:VCALENDAR
