BEGIN:VCALENDAR
VERSION:2.0
PRODID:-//ChamberMaster//Event Calendar 2.0//EN
METHOD:PUBLISH
X-PUBLISHED-TTL:P3D
REFRESH-INTERVAL:P3D
CALSCALE:GREGORIAN
BEGIN:VEVENT
DTSTART:20190127T190000Z
DTEND:20190127T210000Z
X-MICROSOFT-CDO-ALLDAYEVENT:FALSE
SUMMARY:Tea Tasting at the Brick Store Museum
DESCRIPTION:In conjunction with the Brick Store Museum's colorful "Tea Time" exhibition is a new winter activity: a cozy tea tasting at the Museum! Ray Marcotte\, owner of Dobra Tea in Portland\, will serve a tasting of many different teas. Explore the taste and history of six different types of tea (green\, yellow\, white\, oolong\, black\, and pu'er). The event will occur in the "Tea Time" exhibition on Sunday\, January 27th\, from 2:00pm to 4:00pm. Tickets are $12 per person.\n\n\n\nTickets must be purchased in advance at the Brick Store Museum's front desk\, by calling (207)985-4802\, or by visiting www.brickstoremuseum.org. \n\n\n\nThis program is co-sponsored by the Brick Store Museum and Dobra Tea.
X-ALT-DESC;FMTTYPE=text/html:In conjunction with the Brick Store Museum&rsquo\;s colorful &ldquo\;Tea Time&rdquo\; exhibition is a new winter activity: a cozy tea tasting at the Museum! Ray Marcotte\, owner of Dobra Tea in Portland\, will serve a tasting of many different teas. Explore the taste and history of six different types of tea (green\, yellow\, white\, oolong\, black\, and pu&#39\;er). The event will occur in the &ldquo\;Tea Time&rdquo\; exhibition on Sunday\, January 27th\, from 2:00pm to 4:00pm. Tickets are $12 per person.<br />\n<br />\nTickets must be purchased in advance at the Brick Store Museum&rsquo\;s front desk\, by calling (207)985-4802\, or by visiting www.brickstoremuseum.org.&nbsp\;<br />\n<br />\nThis program is co-sponsored by the Brick Store Museum and Dobra Tea.
LOCATION:Brick Store Museum 117 Main Street Kennebunk\, ME\, 04043
UID:e.1923.13058
SEQUENCE:3
DTSTAMP:20260425T030718Z
URL:https://chamber.gokennebunks.com/events/details/tea-tasting-at-the-brick-store-museum-13058
END:VEVENT

END:VCALENDAR
