BEGIN:VCALENDAR
VERSION:2.0
PRODID:-//ChamberMaster//Event Calendar 2.0//EN
METHOD:PUBLISH
X-PUBLISHED-TTL:P3D
REFRESH-INTERVAL:P3D
CALSCALE:GREGORIAN
BEGIN:VEVENT
DTSTART:20240221T220000Z
DTEND:20240222T000000Z
X-MICROSOFT-CDO-ALLDAYEVENT:FALSE
SUMMARY:TBD Connetions Networking Social
DESCRIPTION:Do you like meeting new people? Do you enjoy networking? If so\, come join TBD Connections Kennebunk for an evening fun and get to know other networkers. There will be plenty of food and raffles. We will be raising money for CS3.... Community Strong Character Strong Children Strong (serving Kennebunk\, Kennebunkport and Arundel)
X-ALT-DESC;FMTTYPE=text/html:Do you like meeting new people? Do you enjoy networking? If so\, come join TBD Connections Kennebunk for an evening fun and get to know other networkers. There will be plenty of food and raffles. We will be raising money for CS3.... Community Strong Character Strong Children Strong (serving Kennebunk\, Kennebunkport and Arundel)
LOCATION:Sebago Brewing 65 Portland Road\, Kennebunk
UID:e.1923.24418
SEQUENCE:3
DTSTAMP:20260421T192124Z
URL:https://chamber.gokennebunks.com/events/details/tbd-connetions-networking-social-24418
END:VEVENT

END:VCALENDAR
