BEGIN:VCALENDAR
VERSION:2.0
PRODID:-//ChamberMaster//Event Calendar 2.0//EN
METHOD:PUBLISH
X-PUBLISHED-TTL:P3D
REFRESH-INTERVAL:P3D
CALSCALE:GREGORIAN
BEGIN:VEVENT
DTSTART:20240814T210000Z
DTEND:20240815T010000Z
X-MICROSOFT-CDO-ALLDAYEVENT:FALSE
SUMMARY:Tap Truck 207 at The Wanderer!
DESCRIPTION:Come one\, come all! Join us for sunshine\, beer\, and hot dogs at The Wanderer! \n\n\n\nWe are excited to welcome Tap Truck 207 and Vintage Dogs Maine\, for a fun\, and delicious\, night at The Wanderer. \n\n\n\nBeer not your thing? The Tap Truck is serving up hard seltzer and cocktails as well. Be sure to try our signature cocktails\, The Wanderer Raspberry Margarita and Pride (rum) Punch! \n\n\n\nGluten free and vegan options will be available!
X-ALT-DESC;FMTTYPE=text/html:Come one\, come all! Join us for sunshine\, beer\, and hot dogs at The Wanderer!&nbsp\;<br />\n<br />\nWe are excited to welcome Tap Truck 207 and Vintage Dogs Maine\, for a fun\, and delicious\, night at The Wanderer.&nbsp\;<br />\n<br />\nBeer not your thing? The Tap Truck is serving up hard seltzer and cocktails as well. Be sure to try our signature cocktails\, The Wanderer Raspberry Margarita and Pride (rum) Punch!&nbsp\;<br />\n<br />\nGluten free and vegan options will be available!
LOCATION:95 Sea Rd. Kennebunk\, ME
UID:e.1923.25400
SEQUENCE:3
DTSTAMP:20260421T124442Z
URL:https://chamber.gokennebunks.com/events/details/tap-truck-207-at-the-wanderer-08-14-2024-25400
END:VEVENT

END:VCALENDAR
