BEGIN:VCALENDAR
VERSION:2.0
PRODID:-//ChamberMaster//Event Calendar 2.0//EN
METHOD:PUBLISH
X-PUBLISHED-TTL:P3D
REFRESH-INTERVAL:P3D
CALSCALE:GREGORIAN
BEGIN:VEVENT
DTSTART:20250201T150000Z
DTEND:20250201T170000Z
X-MICROSOFT-CDO-ALLDAYEVENT:FALSE
SUMMARY:TAKE YOUR CHILD TO THE LIBRARY DAY
DESCRIPTION:Saturday\, February 1 at 10 AM. Take Your Child to the Library Day! This is an international event that more than two thousand libraries participate in globally. Spend your Saturday morning in the Junior Room at the Library! We'll have donuts\, a bookmark craft\, games\, puzzles\, hands-on stations\, and more! And don't forget to try out the themed Counting Scavenger Hunt for a chance to win a prize. The Louis T. Graves Memorial Public Library is located at 18 Maine Street\, Kennebunkport. For further information\, please call 967-2778 and ask for the Junior Room or visit www.graveslibrary.org.
X-ALT-DESC;FMTTYPE=text/html:<span style="font-family:arial\,sans-serif"><span style="font-size:12.0pt">Saturday\, February 1 at 10 AM. <strong>Take Your Child to the Library Day!</strong> This is an international event that more than two thousand libraries participate in globally. Spend your Saturday morning in the Junior Room at the Library! We&rsquo\;ll have donuts\, a bookmark craft\, games\, puzzles\, hands-on stations\, and more! And don&#39\;t forget to try out the themed Counting Scavenger Hunt for a chance to win a prize. The Louis T. Graves Memorial Public Library is located at 18 Maine Street\, Kennebunkport. For further information\, please call 967-2778 and ask for the Junior Room or visit </span></span><a href="http://www.graveslibrary.org/"><span style="color:windowtext"><span style="font-family:arial\,sans-serif"><span style="font-size:12pt">www.graveslibrary.org</span></span></span></a><span style="font-family:arial\,sans-serif"><span style="font-size:12.0pt">.</span></span>
LOCATION:The Louis T. Graves Memorial Public Library is located at 18 Maine Street\, Kennebunkport. For further information\, please call 967-2778 and ask for the Junior Room or visit www.graveslibrary.org.
UID:e.1923.33099
SEQUENCE:3
DTSTAMP:20260420T230320Z
URL:https://chamber.gokennebunks.com/events/details/take-your-child-to-the-library-day-33099
END:VEVENT

END:VCALENDAR
