BEGIN:VCALENDAR
VERSION:2.0
PRODID:-//ChamberMaster//Event Calendar 2.0//EN
METHOD:PUBLISH
X-PUBLISHED-TTL:P3D
REFRESH-INTERVAL:P3D
CALSCALE:GREGORIAN
BEGIN:VEVENT
DTSTART:20191214T190000Z
DTEND:20191214T220000Z
X-MICROSOFT-CDO-ALLDAYEVENT:FALSE
SUMMARY:Tails\, Trails\, and Ales
DESCRIPTION:The Kennebunkport Conservation Trust invites you to learn more about our newest project: The Meadow Woods Preserve. Featuring spaces for people\, pets\, and pollinators this 300+ acre preserve will be your new favorite place to visit\, learn\, and relax. Enjoy refreshments while chatting about what our project entails\, how it will service our community\, and how we plan to make it happen! We're well on our way with this project\, but we can't make our vision a reality without your help. The night's ales have been generously donated by Batson River Brewing and Distilling. So\, will you join us for an evening of Tails\, Trails\, and Ales?
X-ALT-DESC;FMTTYPE=text/html:The Kennebunkport Conservation Trust invites you to learn more about our newest project: The Meadow Woods Preserve. Featuring spaces for people\, pets\, and pollinators this 300+ acre preserve will be your new favorite place to visit\, learn\, and relax. Enjoy refreshments while chatting about what our project entails\, how it will service our community\, and how we plan to make it happen! We&#39\;re well on our way with this project\, but we can&#39\;t make our vision a reality without your help. The night&#39\;s ales have been generously donated by Batson River Brewing and Distilling. So\, will you join us for an evening of Tails\, Trails\, and Ales?
LOCATION:Kennebunkport Conservation Trust 57 Gravelly Brook Road Kennebunkport\, ME 04046
UID:e.1923.15523
SEQUENCE:3
DTSTAMP:20260424T112541Z
URL:https://chamber.gokennebunks.com/events/details/tails-trails-and-ales-15523
END:VEVENT

END:VCALENDAR
