BEGIN:VCALENDAR
VERSION:2.0
PRODID:-//ChamberMaster//Event Calendar 2.0//EN
METHOD:PUBLISH
X-PUBLISHED-TTL:P3D
REFRESH-INTERVAL:P3D
CALSCALE:GREGORIAN
BEGIN:VEVENT
DTSTART:20180901T000000Z
DTEND:20180901T023000Z
X-MICROSOFT-CDO-ALLDAYEVENT:FALSE
SUMMARY:Szlachetka
DESCRIPTION:The sophomore album from Rolling Stone "Artist to Watch\," SZLACHETKA (pronounced SLA-HET-KA) was released February 16\, 2018. With its mix of modern Americana\, 70s California rock\, and singer/songwriter sentiments\, Heart of My Hometown is a classic record for the contemporary world.
X-ALT-DESC;FMTTYPE=text/html:The sophomore album from Rolling Stone &ldquo\;Artist to Watch\,&rdquo\; SZLACHETKA (pronounced SLA-HET-KA) was released February 16\, 2018. With its mix of modern Americana\, 70s California rock\, and singer/songwriter sentiments\, Heart of My Hometown is a classic record for the contemporary world.
LOCATION:Vinegar Hill Music Theatre 53 Old Post Rd. Arundel\, ME 04046
UID:e.1923.9887
SEQUENCE:3
DTSTAMP:20260425T103723Z
URL:https://chamber.gokennebunks.com/events/details/szlachetka-9887
END:VEVENT

END:VCALENDAR
