BEGIN:VCALENDAR
VERSION:2.0
PRODID:-//ChamberMaster//Event Calendar 2.0//EN
METHOD:PUBLISH
X-PUBLISHED-TTL:P3D
REFRESH-INTERVAL:P3D
CALSCALE:GREGORIAN
BEGIN:VEVENT
DTSTART:20190727T000000Z
DTEND:20190727T023000Z
X-MICROSOFT-CDO-ALLDAYEVENT:FALSE
SUMMARY:SZLACHETKA
DESCRIPTION:Rolling Stone hailed Szlachetka as one of the 10 New Artists You Need to Know\, describing his forthcoming album as "a soundtrack for both the highway and the heartland a collection of road-dog roots-rockers and Americana ballads inspired by the people (and places) he's left behind in the rearview mirror." Now based in Nashville\, Szlachetka continues to tour nationally with a schedule that's seen him open for Brandy Clark\, the Byrds' Chris Hillman\, the Heartbreakers' Mike Campbell\, Brandi Carlile and more.
X-ALT-DESC;FMTTYPE=text/html:Rolling Stone hailed Szlachetka as one of the 10 New Artists You Need to Know\, describing his forthcoming album as &ldquo\;a soundtrack for both the highway and the heartland&hellip\;a collection of road-dog roots-rockers and Americana ballads inspired by the people (and places) he&rsquo\;s left behind in the rearview mirror.&rdquo\; Now based in Nashville\, Szlachetka continues to tour nationally with a schedule that&rsquo\;s seen him open for Brandy Clark\, the Byrds&rsquo\; Chris Hillman\, the Heartbreakers&rsquo\; Mike Campbell\, Brandi Carlile and more.
LOCATION:Vinegar Hill Music Theatre 53 Old Post Rd Arundel\, ME 04046
UID:e.1923.12842
SEQUENCE:3
DTSTAMP:20260424T183100Z
URL:https://chamber.gokennebunks.com/events/details/szlachetka-07-26-2019-12842
END:VEVENT

END:VCALENDAR
