BEGIN:VCALENDAR
VERSION:2.0
PRODID:-//ChamberMaster//Event Calendar 2.0//EN
METHOD:PUBLISH
X-PUBLISHED-TTL:P3D
REFRESH-INTERVAL:P3D
CALSCALE:GREGORIAN
BEGIN:VEVENT
DTSTART:20240419T220000Z
DTEND:20240420T000000Z
X-MICROSOFT-CDO-ALLDAYEVENT:FALSE
SUMMARY:Swiftie's Era's Night
DESCRIPTION:It's not just a party\; it's a journey through eras\, a celebration of friendship\, and an ode to the music that has woven itself into the fabric of our lives. Bond over shared favorite lyrics\, swap tales of your favorite Taylor moments\, and revel in the camaraderie that only Swifties truly understand.\n\n \n\nWe will be making Taylor inspired friendship bracelets and painting eras tour themed canvases. Meanwhile\, the Eras tour movie will be playing on the big screen the whole night.\n\nCome dressed in your best swiftie attire and get ready for a night filled with laughter\, love\, and the kind of magic that only Taylor Swift can conjure.\n\nWhat's a party without food? Enjoy fun snacks and refreshments. All included in the ticket prices!\n\n\n\nThis event is appropriate for ages 7 and up. Parents are free to drop their child off but must provide an emergency contact name and number. There will be a number of staff on hand to assist younger Swifties!
X-ALT-DESC;FMTTYPE=text/html:<p>It&#39\;s not just a party\; it&#39\;s a journey through eras\, a celebration of friendship\, and an ode to the music that has woven itself into the fabric of our lives. Bond over shared favorite lyrics\, swap tales of your favorite Taylor moments\, and revel in the camaraderie that only Swifties truly understand.</p>\n\n<p>&nbsp\;</p>\n\n<p>We will be making Taylor inspired friendship bracelets and painting eras tour themed canvases. Meanwhile\, the Eras tour movie will be playing on the big screen the whole night.</p>\n\n<p>Come dressed in your best swiftie attire and get ready for a night filled with laughter\, love\, and the kind of magic that only Taylor Swift can conjure.</p>\n\n<p>What&#39\;s a party without food? Enjoy fun snacks and refreshments. All included in the ticket prices!<br />\n<br />\n<em><strong><span style="background-color:rgb(252\, 252\, 252)\; color:rgb(17\, 20\, 23)\; font-family:red hat display\,sans-serif\; font-size:14px">This event is appropriate for ages 7 and up. Parents are free to drop their child off but must provide an emergency contact name and number. There will be a number of staff on hand to assist younger Swifties!</span></strong></em></p>\n
LOCATION:The Creative Soul\, 2 Christensen Lane\, Kennebunk\, ME
UID:e.1923.24579
SEQUENCE:3
DTSTAMP:20260421T163950Z
URL:https://chamber.gokennebunks.com/events/details/swiftie-s-era-s-night-24579
END:VEVENT

END:VCALENDAR
