BEGIN:VCALENDAR
VERSION:2.0
PRODID:-//ChamberMaster//Event Calendar 2.0//EN
METHOD:PUBLISH
X-PUBLISHED-TTL:P3D
REFRESH-INTERVAL:P3D
CALSCALE:GREGORIAN
BEGIN:VEVENT
DTSTART:20230721T233000Z
DTEND:20230722T020000Z
X-MICROSOFT-CDO-ALLDAYEVENT:FALSE
SUMMARY:Sweet Charity
DESCRIPTION:SWEET CHARITY Music by Cy Coleman\, Lyrics by Dorothy Fields\, and Book by Neil Simon Sweet Charity explores the turbulent love life of Charity Hope Valentine\, a hopelessly romantic but comically unfortunate dance hall hostess in New York City. With a tuneful\, groovy\, mid-1960s score by Cy Coleman\, sparkling lyrics by Dorothy Fields\, and a hilarious book by Neil Simon\, Sweet Charity captures all the energy\, humor\, and heartbreak of Life in the Big City for an unfortunate but irrepressible optimist. We proudly license the original 1966 Broadway version of Sweet Charity. Musical numbers include: "Big Spender\," "If My Friends Could See Me Now\," "I'm a Brass Band" and "Baby\, Dream Your Dream."
X-ALT-DESC;FMTTYPE=text/html:SWEET CHARITY Music by Cy Coleman\, Lyrics by Dorothy Fields\, and Book by Neil Simon Sweet Charity explores the turbulent love life of Charity Hope Valentine\, a hopelessly romantic but comically unfortunate dance hall hostess in New York City. With a tuneful\, groovy\, mid-1960s score by Cy Coleman\, sparkling lyrics by Dorothy Fields\, and a hilarious book by Neil Simon\, Sweet Charity captures all the energy\, humor\, and heartbreak of Life in the Big City for an unfortunate but irrepressible optimist. We proudly license the original 1966 Broadway version of Sweet Charity. Musical numbers include: &ldquo\;Big Spender\,&rdquo\; &ldquo\;If My Friends Could See Me Now\,&rdquo\; &ldquo\;I&rsquo\;m a Brass Band&rdquo\; and &ldquo\;Baby\, Dream Your Dream.&rdquo\;
LOCATION:Biddeford City Theater
UID:e.1923.19338
SEQUENCE:3
DTSTAMP:20260422T063543Z
URL:https://chamber.gokennebunks.com/events/details/sweet-charity-07-21-2023-19338
END:VEVENT

END:VCALENDAR
