BEGIN:VCALENDAR
VERSION:2.0
PRODID:-//ChamberMaster//Event Calendar 2.0//EN
METHOD:PUBLISH
X-PUBLISHED-TTL:P3D
REFRESH-INTERVAL:P3D
CALSCALE:GREGORIAN
BEGIN:VEVENT
DTSTART;VALUE=DATE:20250511
DTEND;VALUE=DATE:20250512
TRANSP:TRANSPARENT
X-MICROSOFT-CDO-ALLDAYEVENT:TRUE
SUMMARY:sweat\, sparkly + seeds
DESCRIPTION:come celebrate moms with champagne + take home something for your garden.  there's no better way to show your mom all your love + appreciation than sweating together! book your spots now\, moms sweat for free!\n\n\n\n7A sweat + shake\n\n8:30A sweat + flow\n\n9:45A sweat + flow\n\n\n\nlearn more about our other offerings + sign up for class here: https://www.thedailysweatkennebunk.com/book-a-class
X-ALT-DESC;FMTTYPE=text/html:come celebrate moms with champagne + take home something for your garden.&nbsp\; there&rsquo\;s no better way to show your mom all your love + appreciation than sweating together! book your spots now\, moms sweat for free!<br />\n<br />\n7A sweat + shake<br />\n8:30A sweat + flow<br />\n9:45A sweat + flow<br />\n<br />\nlearn more about our other offerings + sign up for class here: https://www.thedailysweatkennebunk.com/book-a-class
LOCATION:65 Portland RD\, Kennebunk\, ME\, 04046
UID:e.1923.33338
SEQUENCE:3
DTSTAMP:20260421T045206Z
URL:https://chamber.gokennebunks.com/events/details/sweat-sparkly-seeds-33338
END:VEVENT

END:VCALENDAR
