BEGIN:VCALENDAR
VERSION:2.0
PRODID:-//ChamberMaster//Event Calendar 2.0//EN
METHOD:PUBLISH
X-PUBLISHED-TTL:P3D
REFRESH-INTERVAL:P3D
CALSCALE:GREGORIAN
BEGIN:VEVENT
DTSTART:20190912T220000Z
DTEND:20190912T230000Z
X-MICROSOFT-CDO-ALLDAYEVENT:FALSE
SUMMARY:Sweat Hot Remix Launch
DESCRIPTION:It's HERE! 90 minutes of hot vibes for our sweat tribe! Come hydrated and get ready to sweat in our heated rooms that'll leave you feeling detoxed and invigorated. This sequence is based on the 26+2 series but we added beats and a few postures to create our own sequence. Poses are synched with your breath\, there's a fun and challenging balancing series to add fire to your life. This sequence will leave you feeling perfectly balanced inside and out\, from bottom to top - just like a japanese ham sandwich. Because we love an extra SWEATY time\, we'll be launching all the fall retail this evening as well - fall in love with your new fav hues including burgundy\, smoke\, lots of mesh\, bark\, blush + more. Members can sign up beginning Sep 1st at the front desk\, registration will be open to all on September 8th.
X-ALT-DESC;FMTTYPE=text/html:It&rsquo\;s HERE! 90 minutes of hot vibes for our sweat tribe! Come hydrated and get ready to sweat in our heated rooms that&rsquo\;ll leave you feeling detoxed and invigorated. This sequence is based on the 26+2 series but we added beats and a few postures to create our own sequence. Poses are synched with your breath\, there&rsquo\;s a fun and challenging balancing series to add fire to your life. This sequence will leave you feeling perfectly balanced inside and out\, from bottom to top - just like a japanese ham sandwich. Because we love an extra SWEATY time\, we&rsquo\;ll be launching all the fall retail this evening as well - fall in love with your new fav hues including burgundy\, smoke\, lots of mesh\, bark\, blush + more. Members can sign up beginning Sep 1st at the front desk\, registration will be open to all on September 8th.
LOCATION:The Daily Sweat 65 Portland Rd\, Kennebunk\, ME
UID:e.1923.13416
SEQUENCE:3
DTSTAMP:20260424T153812Z
URL:https://chamber.gokennebunks.com/events/details/sweat-hot-remix-launch-13416
END:VEVENT

END:VCALENDAR
