BEGIN:VCALENDAR
VERSION:2.0
PRODID:-//ChamberMaster//Event Calendar 2.0//EN
METHOD:PUBLISH
X-PUBLISHED-TTL:P3D
REFRESH-INTERVAL:P3D
CALSCALE:GREGORIAN
BEGIN:VEVENT
DTSTART:20200719T140000Z
DTEND:20200719T150000Z
X-MICROSOFT-CDO-ALLDAYEVENT:FALSE
SUMMARY:FREE sweat for scoops
DESCRIPTION:it's national ice cream day + you can bet we will sweat for scoops at one of our fav ice cream spots - scoop deck! enjoy class on the lawn followed by $2 off a cone of your choice.\n\nthis is a family friendly event so bring the whole fam + wear your fav pink gear to support our pals at scoop deck.
X-ALT-DESC;FMTTYPE=text/html:<p>it&#39\;s national ice cream day + you can bet we will sweat for scoops at one of our fav ice cream spots - scoop deck! enjoy class on the lawn followed by $2 off a cone of your choice.</p>\n\n<p>this is a family friendly event so bring the whole fam + wear your fav pink gear to support our pals at scoop deck.&nbsp\;</p>\n
LOCATION:Scoop Deck 6 Eldridge Rd Wells\, ME 04090
UID:e.1923.15716
SEQUENCE:3
DTSTAMP:20260420T072156Z
URL:https://chamber.gokennebunks.com/events/details/sweat-for-scoops-15716
END:VEVENT

END:VCALENDAR
