BEGIN:VCALENDAR
VERSION:2.0
PRODID:-//ChamberMaster//Event Calendar 2.0//EN
METHOD:PUBLISH
X-PUBLISHED-TTL:P3D
REFRESH-INTERVAL:P3D
CALSCALE:GREGORIAN
BEGIN:VEVENT
DTSTART:20190216T210000Z
DTEND:20190216T230000Z
X-MICROSOFT-CDO-ALLDAYEVENT:FALSE
SUMMARY:Sushi Making Demonstration + Sake Tasting
DESCRIPTION:Saturday\, February 16\, 2019 at The Boathouse Waterfront Hotel + Restaurant | 4-6pm | $50 per person\n\nHave you always wanted to learn to make sushi? Or maybe you need a refresh on how to make sushi rice? Or are you just here for the sake!? *Class is open to adults 21 years of age or older. Proper ID is required at door.\n\n\n	Interactive demonstration on various sushi making techniques\n	Light snacks including edamame & shishito peppers\n	Sake tasting\n	Sushi Rolling kit to take home\n	3-course meal: Miso Soup\, two Sushi Rolls\, and Fried Plantains\n\nPURCHASE TICKETS: https://www.eventbrite.com/e/sushi-making-demonstration-tickets-52490401203\n\n\n\nFMI on Paint the Town Red in Kennebunkport: ?https://destinationkennebunkport.com/paint-town-red-february-kennebunkport/
X-ALT-DESC;FMTTYPE=text/html:<p><strong>Saturday\, February 16\, 2019 at The Boathouse Waterfront Hotel + Restaurant | 4-6pm | $50 per person</strong></p>\n\n<p>Have you always wanted to learn to make sushi? Or maybe you need a refresh on how to make sushi rice? Or are you just here for the sake!? *Class is open to adults 21 years of age or older. Proper ID is required at door.</p>\n\n<ul>\n	<li>Interactive demonstration on various sushi making techniques</li>\n	<li>Light snacks including edamame &amp\; shishito peppers</li>\n	<li>Sake tasting</li>\n	<li>Sushi Rolling kit to take home</li>\n	<li>3-course meal: Miso Soup\, two Sushi Rolls\, and Fried Plantains</li>\n</ul>\nPURCHASE TICKETS:&nbsp\;<a href="https://www.eventbrite.com/e/sushi-making-demonstration-tickets-52490401203">https://www.eventbrite.com/e/sushi-making-demonstration-tickets-52490401203</a><br />\n<br />\nFMI on Paint the Town Red in Kennebunkport:&nbsp\;?<a href="https://destinationkennebunkport.com/paint-town-red-february-kennebunkport/">https://destinationkennebunkport.com/paint-town-red-february-kennebunkport/</a><br />\n&nbsp\;
LOCATION:The Boathouse 21 Ocean Avenue | Kennebunkport Maine
UID:e.1923.13056
SEQUENCE:3
DTSTAMP:20260425T012927Z
URL:https://chamber.gokennebunks.com/events/details/sushi-making-demonstration-sake-tasting-13056
END:VEVENT

END:VCALENDAR
