BEGIN:VCALENDAR
VERSION:2.0
PRODID:-//ChamberMaster//Event Calendar 2.0//EN
METHOD:PUBLISH
X-PUBLISHED-TTL:P3D
REFRESH-INTERVAL:P3D
CALSCALE:GREGORIAN
BEGIN:VEVENT
DTSTART:20240116T190000Z
DTEND:20240116T200000Z
X-MICROSOFT-CDO-ALLDAYEVENT:FALSE
SUMMARY:Surviving a Department of Labor Audit
DESCRIPTION:On Tuesday\, January 16th at 2pm\, Paper Trails will be hosting a webinar about DOL Wage and Labor audits\, and tips for survival! We are thrilled to be joined by Ana Maria Rogers\, our esteemed local DOL investigator. She will be providing her insights on DOL audits. We will be discussing: Overtime and Blended Overtime Tip Pooling FLSA and FMLA Tips for Survival And more!
X-ALT-DESC;FMTTYPE=text/html:On Tuesday\, January 16th at 2pm\, Paper Trails will be hosting a webinar about DOL Wage and Labor audits\, and tips for survival! We are thrilled to be joined by Ana Maria Rogers\, our esteemed local DOL investigator. She will be providing her insights on DOL audits. We will be discussing: Overtime and Blended Overtime Tip Pooling FLSA and FMLA Tips for Survival And more!
LOCATION:Zoom
UID:e.1923.23296
SEQUENCE:3
DTSTAMP:20260421T204949Z
URL:https://chamber.gokennebunks.com/events/details/surviving-a-department-of-labor-audit-23296
END:VEVENT

END:VCALENDAR
