BEGIN:VCALENDAR
VERSION:2.0
PRODID:-//ChamberMaster//Event Calendar 2.0//EN
METHOD:PUBLISH
X-PUBLISHED-TTL:P3D
REFRESH-INTERVAL:P3D
CALSCALE:GREGORIAN
BEGIN:VEVENT
DTSTART:20181208T210000Z
DTEND:20181208T220000Z
X-MICROSOFT-CDO-ALLDAYEVENT:FALSE
SUMMARY:Surprise! Santa's on the Trolley!
DESCRIPTION:Surprise! Santa's on the Trolley at Seashore!\n\n\nEnjoy a short story and sing along when you arrive at the Visitor center.  Board the trolley with a jingle bell and a covered cup of hot chocolate to sip on during after-dark ride in a heated trolley car.\n\n\nWhen you get on the trolley\, SURPRISE! Santa's riding with you!\n\nEveryone gets a goodie-bag  to take home!\n\nSeating is limited   advance reservations are required.\n\nReserve tickets for\n\nfirst seating: 4 pm\n\nsecond seating: 5 pm
X-ALT-DESC;FMTTYPE=text/html:<h4>Surprise! Santa&rsquo\;s on the Trolley at Seashore!</h4>\n\n<div>\n<p>Enjoy a&nbsp\;short story and sing along when you arrive at the&nbsp\;Visitor center. &nbsp\;Board the trolley with a jingle bell and a covered&nbsp\;cup of hot chocolate to sip on during&nbsp\;after-dark ride in a heated trolley car.</p>\n</div>\n\n<p><strong>When you get on the trolley\, SURPRISE! Santa&rsquo\;s riding with you!</strong></p>\n\n<p>Everyone gets a goodie-bag&nbsp\; to take home!</p>\n\n<p>Seating is limited &ndash\; advance reservations are required.</p>\n\n<p><a href="https://trolleymuseum.org/events/purchase-tickets/" style="box-sizing: border-box\; background-color: transparent\; color: rgb(51\, 122\, 183)\; text-decoration-line: none\;"><strong>Reserve tickets for</strong></a></p>\n\n<p><strong>first seating: 4 pm<br />\nsecond seating: 5 pm</strong></p>\n
LOCATION:Seashore Trolley Museum\, 195 Log Cabin Rd\, Kennebunkport
UID:e.1923.7556
SEQUENCE:3
DTSTAMP:20260425T041922Z
URL:https://chamber.gokennebunks.com/events/details/surprise-santa-s-on-the-trolley-7556
END:VEVENT

END:VCALENDAR
