BEGIN:VCALENDAR
VERSION:2.0
PRODID:-//ChamberMaster//Event Calendar 2.0//EN
METHOD:PUBLISH
X-PUBLISHED-TTL:P3D
REFRESH-INTERVAL:P3D
CALSCALE:GREGORIAN
BEGIN:VEVENT
DTSTART:20180127T110000Z
DTEND:20180127T140000Z
X-MICROSOFT-CDO-ALLDAYEVENT:FALSE
SUMMARY:Supper Club at The Inn at English Meadows with Curate Main
DESCRIPTION:Alex Parisi of Curate Maine and Kate Parisi of The Inn at English Meadows are collaborating on a menu inspired by Italy\, family and their history cooking together.\n\n\n\nOur supper club begins with a welcome aperitivo\, followed by four course meal with wine pairings\, expertly selected by Andrew Menard of Vacationland Distributors. Andrew will be pouring a selection of Italian wines and will be available to take orders to purchase your favorites!\n\n\n\nMenu...\n\n\n\nRoman crispy artichokes\, greens\, lemon caper aioli\n\n\n\nFresh egg pasta Carbonara\, pancetta\, Pecorino.\n\n\n\nWine braised veal shanks\, tomato\, parsley\, lemon\, bread. \n\n\n\nEspresso and dark chocolate mousse.\n\n\n\n$79 plus tax\, includes gratuity 4 courses\, 4 wines\, a before dinner cocktail and coffee or tea! Those who attend who choose not to drink pay an adjusted price of $65. We are also happy to adapt the menu for those with dietary restrictions.\n\n\n\n\n\nPlease call the Inn directly with any specific requests or needs.\n\n\n\n\n\n25% off room rates when attending the supper club. https://englishmeadowsinn.com/lodging/
X-ALT-DESC;FMTTYPE=text/html:<span style="color:rgb(75\, 79\, 86)\; font-family:sf optimized\,system-ui\,-apple-system\,system-ui\,.sfnstext-regular\,sans-serif\; font-size:14px">Alex Parisi of Curate Maine and Kate Parisi of The Inn at English Meadows are collaborating on a menu inspired by Italy\, family and their history cooking together.</span><br />\n<br />\n<span style="color:rgb(75\, 79\, 86)\; font-family:sf optimized\,system-ui\,-apple-system\,system-ui\,.sfnstext-regular\,sans-serif\; font-size:14px">Our supper club begins with a welcome aperitivo\, followed by four course meal with wine pairings\, expertly selected by Andrew Menard of Vacationland Distributors. Andrew will be pouring a selection of Italian wines and will be available to take orders to purchase your favorites!</span><br />\n<br />\n<span style="color:rgb(75\, 79\, 86)\; font-family:sf optimized\,system-ui\,-apple-system\,system-ui\,.sfnstext-regular\,sans-serif\; font-size:14px">Menu...</span><br />\n<br />\n<span style="color:rgb(75\, 79\, 86)\; font-family:sf optimized\,system-ui\,-apple-system\,system-ui\,.sfnstext-regular\,sans-serif\; font-size:14px">Roman crispy artichokes\, greens\, lemon caper aioli</span><br />\n<br />\n<span style="color:rgb(75\, 79\, 86)\; font-family:sf optimized\,system-ui\,-apple-system\,system-ui\,.sfnstext-regular\,sans-serif\; font-size:14px">Fresh egg pasta Carbonara\, pancetta\, Pecorino.<br />\n<br />\nWine braised veal shanks\, tomato\, parsley\, lemon\, bread.&nbsp\;<br />\n<br />\nEspresso and dark chocolate mousse.<br />\n<br />\n$79 plus tax\, includes gratuity 4 courses\, 4 wines\, a before dinner cocktail and coffee or tea! Those who attend who choose not to drink pay an adjusted price of $65. We are also happy to adapt the menu for those with dietary restrictions.<br />\n<br />\n<br />\nPlease call the Inn directly with any specific requests or needs.<br />\n<br />\n<br />\n25% off room rates when attending the supper club.&nbsp\;<a href="https://l.facebook.com/l.php?u=https%3A%2F%2Fenglishmeadowsinn.com%2Flodging%2F&amp\;h=ATObJAlMTh7exDp22yJmLkj4uzEka1coTcqITM76z5a44Bimf8ucPFRNONIHWIOTBJUfLrAutQXGPask9evGbTgo-NJMtICzCpQRTRgCK0r0Jrt7ti5PJ2w_FZYA8L9njszQWv0zoKvQB7f_m3xPvkrxdADGdexXqz50EwKWFbNLUahMSlaH" rel="nofollow noopener" style="color: rgb(54\, 88\, 153)\; text-decoration-line: none\; font-family: inherit\;" target="_blank"><span style="font-family:inherit">https://</span><span style="font-family:inherit">englishmeadowsinn.com/</span>lodging/</a></span>
LOCATION:The Inn at English Meadows\, 141 Port Rd Kennebunk\, Maine 04043
UID:e.1923.7005
SEQUENCE:3
DTSTAMP:20260425T211422Z
URL:https://chamber.gokennebunks.com/events/details/supper-club-at-the-inn-at-english-meadows-with-curate-main-7005
END:VEVENT

END:VCALENDAR
