BEGIN:VCALENDAR
VERSION:2.0
PRODID:-//ChamberMaster//Event Calendar 2.0//EN
METHOD:PUBLISH
X-PUBLISHED-TTL:P3D
REFRESH-INTERVAL:P3D
CALSCALE:GREGORIAN
BEGIN:VEVENT
DTSTART:20180204T213000Z
DTEND:20180205T053000Z
X-MICROSOFT-CDO-ALLDAYEVENT:FALSE
SUMMARY:Super Bowl Party
DESCRIPTION:Come join us Super Bowl Sunday! As we watch the New England Patriots and the Philadelphia Eagles Drink and Beer Specials Buffet at Halftime with finger foods and snacks And fun Super Bowl commercial Bingo where the winners will get prizes! And don't worry about not being able to see we will have views from everywhere including a Big screen all set up to watch it on!
X-ALT-DESC;FMTTYPE=text/html:Come join us Super Bowl Sunday! As we watch the New England Patriots and the Philadelphia Eagles Drink and Beer Specials Buffet at Halftime with finger foods and snacks And fun Super Bowl commercial Bingo where the winners will get prizes! And don&rsquo\;t worry about not being able to see we will have views from everywhere including a Big screen all set up to watch it on!
LOCATION:Federal Jacks 8 Western Ave\, Kennebunk Maine
UID:e.1923.7006
SEQUENCE:3
DTSTAMP:20260425T193142Z
URL:https://chamber.gokennebunks.com/events/details/super-bowl-party-7006
END:VEVENT

END:VCALENDAR
