BEGIN:VCALENDAR
VERSION:2.0
PRODID:-//ChamberMaster//Event Calendar 2.0//EN
METHOD:PUBLISH
X-PUBLISHED-TTL:P3D
REFRESH-INTERVAL:P3D
CALSCALE:GREGORIAN
BEGIN:VEVENT
DTSTART:20230813T190000Z
DTEND:20230813T220000Z
X-MICROSOFT-CDO-ALLDAYEVENT:FALSE
SUMMARY:Sunday Chill: Michael Corleto
DESCRIPTION:Every Sunday through Labor Day Weekend\, stop by Vinegar Hill between 3 pm and 6pm to enjoy FREE\, live music in our garden patio\, along with drink specials and food from local food trucks! All are welcome (including dogs) to this free\, family-friendly event. Feel free to bring your chair or blanket and stay awhile! Michael Corleto: Despite his young age Michael is a seasoned veteran on the Maine music scene\, as he has been wowing local audiences with his talent for many years. For the first time\, Michael has focused all of his considerable skills to write and record an album of original music\, and the result\, Sincerely\, Your Son\, shows off a young songwriter who has found his voice. From guitar-heavy rockers to heartfelt ballads\, this album pays homage to the many diverse influences that have helped shape Michael as a musician and artist. On May 13th\, Michael and his band will play Sincerely\, Your Son in its entirety. You can also expect a few carefully selected covers of artists and songs that have inspired Michael along the way\, as well as some brand-new original material!
X-ALT-DESC;FMTTYPE=text/html:Every Sunday through Labor Day Weekend\, stop by Vinegar Hill between 3 pm and 6pm to enjoy FREE\, live music in our garden patio\, along with drink specials and food from local food trucks! All are welcome (including dogs) to this free\, family-friendly event. Feel free to bring your chair or blanket and stay awhile! Michael Corleto: Despite his young age Michael is a seasoned veteran on the Maine music scene\, as he has been wowing local audiences with his talent for many years. For the first time\, Michael has focused all of his considerable skills to write and record an album of original music\, and the result\, Sincerely\, Your Son\, shows off a young songwriter who has found his voice. From guitar-heavy rockers to heartfelt ballads\, this album pays homage to the many diverse influences that have helped shape Michael as a musician and artist. On May 13th\, Michael and his band will play Sincerely\, Your Son in its entirety. You can also expect a few carefully selected covers of artists and songs that have inspired Michael along the way\, as well as some brand-new original material!
LOCATION:53 Old Post Road\, Arundel\, ME\, United States\, Maine
UID:e.1923.21932
SEQUENCE:3
DTSTAMP:20260422T050351Z
URL:https://chamber.gokennebunks.com/events/details/sunday-chill-michael-corleto-08-13-2023-21932
END:VEVENT

END:VCALENDAR
